BEGIN:VCALENDAR
VERSION:2.0
PRODID:-//Salinas Valley Solid Waste Authority - ECPv6.15.13//NONSGML v1.0//EN
CALSCALE:GREGORIAN
METHOD:PUBLISH
X-WR-CALNAME:Salinas Valley Solid Waste Authority
X-ORIGINAL-URL:https://svswa.org
X-WR-CALDESC:Events for Salinas Valley Solid Waste Authority
REFRESH-INTERVAL;VALUE=DURATION:PT1H
X-Robots-Tag:noindex
X-PUBLISHED-TTL:PT1H
BEGIN:VTIMEZONE
TZID:America/Los_Angeles
BEGIN:DAYLIGHT
TZOFFSETFROM:-0800
TZOFFSETTO:-0700
TZNAME:PDT
DTSTART:20220313T100000
END:DAYLIGHT
BEGIN:STANDARD
TZOFFSETFROM:-0700
TZOFFSETTO:-0800
TZNAME:PST
DTSTART:20221106T090000
END:STANDARD
BEGIN:DAYLIGHT
TZOFFSETFROM:-0800
TZOFFSETTO:-0700
TZNAME:PDT
DTSTART:20230312T100000
END:DAYLIGHT
BEGIN:STANDARD
TZOFFSETFROM:-0700
TZOFFSETTO:-0800
TZNAME:PST
DTSTART:20231105T090000
END:STANDARD
BEGIN:DAYLIGHT
TZOFFSETFROM:-0800
TZOFFSETTO:-0700
TZNAME:PDT
DTSTART:20240310T100000
END:DAYLIGHT
BEGIN:STANDARD
TZOFFSETFROM:-0700
TZOFFSETTO:-0800
TZNAME:PST
DTSTART:20241103T090000
END:STANDARD
BEGIN:DAYLIGHT
TZOFFSETFROM:-0800
TZOFFSETTO:-0700
TZNAME:PDT
DTSTART:20250309T100000
END:DAYLIGHT
BEGIN:STANDARD
TZOFFSETFROM:-0700
TZOFFSETTO:-0800
TZNAME:PST
DTSTART:20251102T090000
END:STANDARD
END:VTIMEZONE
BEGIN:VEVENT
DTSTART;TZID=America/Los_Angeles:20240620T180000
DTEND;TZID=America/Los_Angeles:20240620T200000
DTSTAMP:20260422T155416
CREATED:20240103T195908Z
LAST-MODIFIED:20240103T195908Z
UID:33858-1718906400-1718913600@svswa.org
SUMMARY:Board of Directors Meeting
DESCRIPTION:The Board of Directors consists of 9 Board Members with 6 alternate representatives. The Board meets every 3rd Thursday of the month at 6:00 p.m.\, unless otherwise noted\, in the City of Gonzales Council Chambers\, 117 Fourth Street\, Gonzales\, CA 93926.
URL:https://svswa.org/event/board-of-directors-meeting-48/
END:VEVENT
BEGIN:VEVENT
DTSTART;TZID=America/Los_Angeles:20240606T173000
DTEND;TZID=America/Los_Angeles:20240606T183000
DTSTAMP:20260422T155416
CREATED:20240103T195045Z
LAST-MODIFIED:20240607T191722Z
UID:33825-1717695000-1717698600@svswa.org
SUMMARY:Executive Committee Meeting - Canceled
DESCRIPTION:The Executive Committee is composed of the Authority Board President\, Vice President\, Alternate Vice President and Immediate Past President (discretional). The Executive Committee is an advisory committee to the Board of Directors and oversees issues related to finances\, personal\, and agency policies.
URL:https://svswa.org/event/executive-committee-meeting-48/
END:VEVENT
BEGIN:VEVENT
DTSTART;TZID=America/Los_Angeles:20240605T143000
DTEND;TZID=America/Los_Angeles:20240605T153000
DTSTAMP:20260422T155416
CREATED:20240607T191831Z
LAST-MODIFIED:20240607T191831Z
UID:34943-1717597800-1717601400@svswa.org
SUMMARY:Special Executive Committee Meeting
DESCRIPTION:The Executive Committee is composed of the Authority Board President\, Vice President\, Alternate Vice President and Immediate Past President (discretional). The Executive Committee is an advisory committee to the Board of Directors and oversees issues related to finances\, personal\, and agency policies.
URL:https://svswa.org/event/special-executive-committee-meeting-2/
END:VEVENT
BEGIN:VEVENT
DTSTART;TZID=America/Los_Angeles:20240518T100000
DTEND;TZID=America/Los_Angeles:20240518T110000
DTSTAMP:20260422T155416
CREATED:20231120T223108Z
LAST-MODIFIED:20231120T223108Z
UID:33415-1716026400-1716030000@svswa.org
SUMMARY:Compost Workshop
DESCRIPTION:Come and learn about: Worm composting\, backyard composting\, and converting your kitchen scraps into a nutrient-rich soil amendment. \nRegister today\, families are welcomed! Check out the upcoming Basic Composting and Vermicomposting Events.
URL:https://svswa.org/event/compost-workshop-4/
LOCATION:Natividad Creek Park\, 1395 Nogal Drive\, Salinas\, CA\, 93905\, United States
ATTACH;FMTTYPE=image/jpeg:https://svswa.org/wp-content/uploads/2023/11/IMG_2070-scaled.jpg
ORGANIZER;CN="Estela Guerrero":MAILTO:estelag@svswa.org
END:VEVENT
BEGIN:VEVENT
DTSTART;TZID=America/Los_Angeles:20240516T180000
DTEND;TZID=America/Los_Angeles:20240516T200000
DTSTAMP:20260422T155416
CREATED:20240103T195721Z
LAST-MODIFIED:20240103T195721Z
UID:33855-1715882400-1715889600@svswa.org
SUMMARY:Board of Directors Meeting
DESCRIPTION:The Board of Directors consists of 9 Board Members with 6 alternate representatives. The Board meets every 3rd Thursday of the month at 6:00 p.m.\, unless otherwise noted\, in the City of Gonzales Council Chambers\, 117 Fourth Street\, Gonzales\, CA 93926.
URL:https://svswa.org/event/board-of-directors-meeting-47/
END:VEVENT
BEGIN:VEVENT
DTSTART;TZID=America/Los_Angeles:20240502T173000
DTEND;TZID=America/Los_Angeles:20240502T183000
DTSTAMP:20260422T155416
CREATED:20240103T195010Z
LAST-MODIFIED:20240103T195010Z
UID:33822-1714671000-1714674600@svswa.org
SUMMARY:Executive Committee Meeting
DESCRIPTION:The Executive Committee is composed of the Authority Board President\, Vice President\, Alternate Vice President and Immediate Past President (discretional). The Executive Committee is an advisory committee to the Board of Directors and oversees issues related to finances\, personal\, and agency policies.
URL:https://svswa.org/event/executive-committee-meeting-47/
END:VEVENT
BEGIN:VEVENT
DTSTART;TZID=America/Los_Angeles:20240418T180000
DTEND;TZID=America/Los_Angeles:20240418T200000
DTSTAMP:20260422T155416
CREATED:20240103T195648Z
LAST-MODIFIED:20240103T195648Z
UID:33852-1713463200-1713470400@svswa.org
SUMMARY:Board of Directors Meeting
DESCRIPTION:The Board of Directors consists of 9 Board Members with 6 alternate representatives. The Board meets every 3rd Thursday of the month at 6:00 p.m.\, unless otherwise noted\, in the City of Gonzales Council Chambers\, 117 Fourth Street\, Gonzales\, CA 93926.
URL:https://svswa.org/event/board-of-directors-meeting-46/
END:VEVENT
BEGIN:VEVENT
DTSTART;TZID=America/Los_Angeles:20240406T100000
DTEND;TZID=America/Los_Angeles:20240406T140000
DTSTAMP:20260422T155416
CREATED:20240307T172406Z
LAST-MODIFIED:20240307T172555Z
UID:34208-1712397600-1712412000@svswa.org
SUMMARY:Youth Council Sustainability Fair & Education Center Grand Opening!
DESCRIPTION:Youth Council Sustainability Fair & Education Center Grand Opening! \nPark at Gonzales High Stadium Lot to catch the free shuttle! \nReserve your spot here!
URL:https://svswa.org/event/34208/
ATTACH;FMTTYPE=image/png:https://svswa.org/wp-content/uploads/2024/03/1-1.png
END:VEVENT
BEGIN:VEVENT
DTSTART;TZID=America/Los_Angeles:20240406T100000
DTEND;TZID=America/Los_Angeles:20240406T110000
DTSTAMP:20260422T155416
CREATED:20231120T221839Z
LAST-MODIFIED:20231120T223742Z
UID:33412-1712397600-1712401200@svswa.org
SUMMARY:Compost Workshop
DESCRIPTION:Come and learn about: Worm composting\, backyard composting\, and converting your kitchen scraps into a nutrient-rich soil amendment. \nRegister today\, families are welcomed! Check out the upcoming Basic Composting and Vermicomposting Events.
URL:https://svswa.org/event/compost-workshop-3/
LOCATION:Johnson Canyon Landfill\, 31400 Johnson Canyon Road\, Gonzales\, CA\, 93926\, United States
ATTACH;FMTTYPE=image/jpeg:https://svswa.org/wp-content/uploads/2023/11/IMG_2070-scaled.jpg
ORGANIZER;CN="Estela Guerrero":MAILTO:estelag@svswa.org
END:VEVENT
BEGIN:VEVENT
DTSTART;TZID=America/Los_Angeles:20240404T173000
DTEND;TZID=America/Los_Angeles:20240404T183000
DTSTAMP:20260422T155416
CREATED:20240103T194936Z
LAST-MODIFIED:20240103T194936Z
UID:33819-1712251800-1712255400@svswa.org
SUMMARY:Executive Committee Meeting
DESCRIPTION:The Executive Committee is composed of the Authority Board President\, Vice President\, Alternate Vice President and Immediate Past President (discretional). The Executive Committee is an advisory committee to the Board of Directors and oversees issues related to finances\, personal\, and agency policies.
URL:https://svswa.org/event/executive-committee-meeting-46/
END:VEVENT
BEGIN:VEVENT
DTSTART;TZID=America/Los_Angeles:20240323T100000
DTEND;TZID=America/Los_Angeles:20240323T110000
DTSTAMP:20260422T155416
CREATED:20231120T220210Z
LAST-MODIFIED:20231120T223717Z
UID:33410-1711188000-1711191600@svswa.org
SUMMARY:Compost Workshop
DESCRIPTION:Come and learn about: Worm composting\, backyard composting\, and converting your kitchen scraps into a nutrient-rich soil amendment! \nRegister today\, families are welcomed! Check out the upcoming Basic Composting and Vermicomposting Events.
URL:https://svswa.org/event/compost-workshop-2/
LOCATION:rancho cielo\, 710 Old Stage Road\, Salinas\, CA\, 93908\, United States
ATTACH;FMTTYPE=image/jpeg:https://svswa.org/wp-content/uploads/2023/11/IMG_2070-scaled.jpg
ORGANIZER;CN="Estela Guerrero":MAILTO:estelag@svswa.org
END:VEVENT
BEGIN:VEVENT
DTSTART;TZID=America/Los_Angeles:20240321T180000
DTEND;TZID=America/Los_Angeles:20240321T200000
DTSTAMP:20260422T155416
CREATED:20240103T195617Z
LAST-MODIFIED:20240103T195617Z
UID:33849-1711044000-1711051200@svswa.org
SUMMARY:Board of Directors Meeting
DESCRIPTION:The Board of Directors consists of 9 Board Members with 6 alternate representatives. The Board meets every 3rd Thursday of the month at 6:00 p.m.\, unless otherwise noted\, in the City of Gonzales Council Chambers\, 117 Fourth Street\, Gonzales\, CA 93926.
URL:https://svswa.org/event/board-of-directors-meeting-45/
END:VEVENT
BEGIN:VEVENT
DTSTART;TZID=America/Los_Angeles:20240307T173000
DTEND;TZID=America/Los_Angeles:20240307T183000
DTSTAMP:20260422T155416
CREATED:20240103T194859Z
LAST-MODIFIED:20240103T194859Z
UID:33816-1709832600-1709836200@svswa.org
SUMMARY:Executive Committee Meeting
DESCRIPTION:The Executive Committee is composed of the Authority Board President\, Vice President\, Alternate Vice President and Immediate Past President (discretional). The Executive Committee is an advisory committee to the Board of Directors and oversees issues related to finances\, personal\, and agency policies.
URL:https://svswa.org/event/executive-committee-meeting-45/
END:VEVENT
BEGIN:VEVENT
DTSTART;TZID=America/Los_Angeles:20240224T100000
DTEND;TZID=America/Los_Angeles:20240224T110000
DTSTAMP:20260422T155416
CREATED:20231120T215903Z
LAST-MODIFIED:20231120T223658Z
UID:33406-1708768800-1708772400@svswa.org
SUMMARY:Compost Workshop
DESCRIPTION:Come and learn about: Worm composting\, backyard composting\, and converting your kitchen scraps into a nutrient-rich soil amendment! \nRegister today\, families are welcomed! Check out the upcoming Basic Composting and Vermicomposting Events.
URL:https://svswa.org/event/33406/
LOCATION:Jardin El Sol\, 139 Sun Street\, Salinas\, CA\, 93901\, United States
ATTACH;FMTTYPE=image/jpeg:https://svswa.org/wp-content/uploads/2023/11/IMG_2070-scaled.jpg
ORGANIZER;CN="Estela Guerrero":MAILTO:estelag@svswa.org
END:VEVENT
BEGIN:VEVENT
DTSTART;TZID=America/Los_Angeles:20240215T180000
DTEND;TZID=America/Los_Angeles:20240215T200000
DTSTAMP:20260422T155416
CREATED:20240103T195543Z
LAST-MODIFIED:20240103T195543Z
UID:33846-1708020000-1708027200@svswa.org
SUMMARY:Board of Directors Meeting
DESCRIPTION:The Board of Directors consists of 9 Board Members with 6 alternate representatives. The Board meets every 3rd Thursday of the month at 6:00 p.m.\, unless otherwise noted\, in the City of Gonzales Council Chambers\, 117 Fourth Street\, Gonzales\, CA 93926.
URL:https://svswa.org/event/board-of-directors-meeting-44/
END:VEVENT
BEGIN:VEVENT
DTSTART;TZID=America/Los_Angeles:20240201T173000
DTEND;TZID=America/Los_Angeles:20240201T183000
DTSTAMP:20260422T155416
CREATED:20240103T194829Z
LAST-MODIFIED:20240103T194829Z
UID:33814-1706808600-1706812200@svswa.org
SUMMARY:Executive Committee Meeting
DESCRIPTION:The Executive Committee is composed of the Authority Board President\, Vice President\, Alternate Vice President and Immediate Past President (discretional). The Executive Committee is an advisory committee to the Board of Directors and oversees issues related to finances\, personal\, and agency policies.
URL:https://svswa.org/event/executive-committee-meeting-44/
END:VEVENT
BEGIN:VEVENT
DTSTART;TZID=America/Los_Angeles:20240127T100000
DTEND;TZID=America/Los_Angeles:20240127T110000
DTSTAMP:20260422T155416
CREATED:20231120T215655Z
LAST-MODIFIED:20231120T223541Z
UID:33401-1706349600-1706353200@svswa.org
SUMMARY:Compost Workshop
DESCRIPTION:Come and learn about: Worm composting\, backyard composting\, and converting your kitchen scraps into a nutrient-rich soil amendment! \nRegister today\, families are welcomed! Check out the upcoming Basic Composting and Vermicomposting Events.
URL:https://svswa.org/event/compost-workshop/
LOCATION:Jardin El Sol\, 139 Sun Street\, Salinas\, CA\, 93901\, United States
ATTACH;FMTTYPE=image/jpeg:https://svswa.org/wp-content/uploads/2023/11/IMG_2070-scaled.jpg
ORGANIZER;CN="Estela Guerrero":MAILTO:estelag@svswa.org
END:VEVENT
BEGIN:VEVENT
DTSTART;TZID=America/Los_Angeles:20240118T180000
DTEND;TZID=America/Los_Angeles:20240118T200000
DTSTAMP:20260422T155416
CREATED:20240103T195509Z
LAST-MODIFIED:20240103T195509Z
UID:33843-1705600800-1705608000@svswa.org
SUMMARY:Board of Directors Meeting
DESCRIPTION:The Board of Directors consists of 9 Board Members with 6 alternate representatives. The Board meets every 3rd Thursday of the month at 6:00 p.m.\, unless otherwise noted\, in the City of Gonzales Council Chambers\, 117 Fourth Street\, Gonzales\, CA 93926.
URL:https://svswa.org/event/board-of-directors-meeting-43/
END:VEVENT
BEGIN:VEVENT
DTSTART;TZID=America/Los_Angeles:20240104T173000
DTEND;TZID=America/Los_Angeles:20240104T183000
DTSTAMP:20260422T155416
CREATED:20240103T194628Z
LAST-MODIFIED:20240103T194628Z
UID:33812-1704389400-1704393000@svswa.org
SUMMARY:Executive Committee Meeting
DESCRIPTION:The Executive Committee is composed of the Authority Board President\, Vice President\, Alternate Vice President and Immediate Past President (discretional). The Executive Committee is an advisory committee to the Board of Directors and oversees issues related to finances\, personal\, and agency policies.
URL:https://svswa.org/event/executive-committee-meeting-43/
END:VEVENT
BEGIN:VEVENT
DTSTART;TZID=America/Los_Angeles:20231221T180000
DTEND;TZID=America/Los_Angeles:20231221T200000
DTSTAMP:20260422T155416
CREATED:20230216T193919Z
LAST-MODIFIED:20230216T193919Z
UID:26674-1703181600-1703188800@svswa.org
SUMMARY:Board of Directors Meeting - Tentative
DESCRIPTION:The Board of Directors consists of 9 Board Members with 6 alternate representatives. The Board meets every 3rd Thursday of the month at 6:00 p.m.\, unless otherwise noted\, in the City of Gonzales Council Chambers\, 117 Fourth Street\, Gonzales\, CA 93926.
URL:https://svswa.org/event/board-of-directors-meeting-tentative-2/
END:VEVENT
BEGIN:VEVENT
DTSTART;TZID=America/Los_Angeles:20231207T173000
DTEND;TZID=America/Los_Angeles:20231207T183000
DTSTAMP:20260422T155416
CREATED:20230217T204610Z
LAST-MODIFIED:20230217T204610Z
UID:26755-1701970200-1701973800@svswa.org
SUMMARY:Executive Committee Meeting - Tentative
DESCRIPTION:The Executive Committee is composed of the Authority Board President\, Vice President\, Alternate Vice President and Immediate Past President (discretional). The Executive Committee is an advisory committee to the Board of Directors and oversees issues related to finances\, personal\, and agency policies.
URL:https://svswa.org/event/executive-committee-meeting-tentative-2/
END:VEVENT
BEGIN:VEVENT
DTSTART;TZID=America/Los_Angeles:20231116T180000
DTEND;TZID=America/Los_Angeles:20231116T200000
DTSTAMP:20260422T155416
CREATED:20230216T193839Z
LAST-MODIFIED:20230216T193839Z
UID:26671-1700157600-1700164800@svswa.org
SUMMARY:Board of Directors Meeting
DESCRIPTION:The Board of Directors consists of 9 Board Members with 6 alternate representatives. The Board meets every 3rd Thursday of the month at 6:00 p.m.\, unless otherwise noted\, in the City of Gonzales Council Chambers\, 117 Fourth Street\, Gonzales\, CA 93926.
URL:https://svswa.org/event/board-of-directors-meeting-42/
END:VEVENT
BEGIN:VEVENT
DTSTART;TZID=America/Los_Angeles:20231102T173000
DTEND;TZID=America/Los_Angeles:20231102T183000
DTSTAMP:20260422T155416
CREATED:20230217T204533Z
LAST-MODIFIED:20230217T204533Z
UID:26752-1698946200-1698949800@svswa.org
SUMMARY:Executive Committee Meeting
DESCRIPTION:The Executive Committee is composed of the Authority Board President\, Vice President\, Alternate Vice President and Immediate Past President (discretional). The Executive Committee is an advisory committee to the Board of Directors and oversees issues related to finances\, personal\, and agency policies.
URL:https://svswa.org/event/executive-committee-meeting-42/
END:VEVENT
BEGIN:VEVENT
DTSTART;TZID=America/Los_Angeles:20231019T180000
DTEND;TZID=America/Los_Angeles:20231019T200000
DTSTAMP:20260422T155416
CREATED:20230216T193727Z
LAST-MODIFIED:20230216T193727Z
UID:26668-1697738400-1697745600@svswa.org
SUMMARY:Board of Directors Meeting
DESCRIPTION:The Board of Directors consists of 9 Board Members with 6 alternate representatives. The Board meets every 3rd Thursday of the month at 6:00 p.m.\, unless otherwise noted\, in the City of Gonzales Council Chambers\, 117 Fourth Street\, Gonzales\, CA 93926.
URL:https://svswa.org/event/board-of-directors-meeting-41/
END:VEVENT
BEGIN:VEVENT
DTSTART;TZID=America/Los_Angeles:20231014T100000
DTEND;TZID=America/Los_Angeles:20231014T110000
DTSTAMP:20260422T155416
CREATED:20230810T160937Z
LAST-MODIFIED:20230810T160937Z
UID:32817-1697277600-1697281200@svswa.org
SUMMARY:Free Compost Workshop
DESCRIPTION:
URL:https://svswa.org/event/free-compost-workshop-7/
LOCATION:Jardin El Sol\, 139 Sun Street\, Salinas\, CA\, 93901\, United States
ATTACH;FMTTYPE=image/jpeg:https://svswa.org/wp-content/uploads/2023/08/FREE-IN-PERSON-SEP-OCT_Page_1-scaled.jpg
ORGANIZER;CN="Estela Guerrero":MAILTO:estelag@svswa.org
END:VEVENT
BEGIN:VEVENT
DTSTART;TZID=America/Los_Angeles:20231005T173000
DTEND;TZID=America/Los_Angeles:20231005T183000
DTSTAMP:20260422T155416
CREATED:20230217T204502Z
LAST-MODIFIED:20230217T204502Z
UID:26749-1696527000-1696530600@svswa.org
SUMMARY:Executive Committee Meeting
DESCRIPTION:The Executive Committee is composed of the Authority Board President\, Vice President\, Alternate Vice President and Immediate Past President (discretional). The Executive Committee is an advisory committee to the Board of Directors and oversees issues related to finances\, personal\, and agency policies.
URL:https://svswa.org/event/executive-committee-meeting-41/
END:VEVENT
BEGIN:VEVENT
DTSTART;TZID=America/Los_Angeles:20230923T100000
DTEND;TZID=America/Los_Angeles:20230923T110000
DTSTAMP:20260422T155416
CREATED:20230810T160812Z
LAST-MODIFIED:20230810T160824Z
UID:32813-1695463200-1695466800@svswa.org
SUMMARY:Free Compost Workshop
DESCRIPTION:
URL:https://svswa.org/event/32813/
LOCATION:Jardin El Sol\, 139 Sun Street\, Salinas\, CA\, 93901\, United States
ATTACH;FMTTYPE=image/jpeg:https://svswa.org/wp-content/uploads/2023/08/FREE-IN-PERSON-SEP-OCT_Page_1-scaled.jpg
ORGANIZER;CN="Estela Guerrero":MAILTO:estelag@svswa.org
END:VEVENT
BEGIN:VEVENT
DTSTART;TZID=America/Los_Angeles:20230921T180000
DTEND;TZID=America/Los_Angeles:20230921T200000
DTSTAMP:20260422T155416
CREATED:20230216T193631Z
LAST-MODIFIED:20230216T193631Z
UID:26665-1695319200-1695326400@svswa.org
SUMMARY:Board of Directors Meeting
DESCRIPTION:The Board of Directors consists of 9 Board Members with 6 alternate representatives. The Board meets every 3rd Thursday of the month at 6:00 p.m.\, unless otherwise noted\, in the City of Gonzales Council Chambers\, 117 Fourth Street\, Gonzales\, CA 93926.
URL:https://svswa.org/event/board-of-directors-meeting-40/
END:VEVENT
BEGIN:VEVENT
DTSTART;TZID=America/Los_Angeles:20230907T173000
DTEND;TZID=America/Los_Angeles:20230907T183000
DTSTAMP:20260422T155416
CREATED:20230217T204434Z
LAST-MODIFIED:20230217T204434Z
UID:26746-1694107800-1694111400@svswa.org
SUMMARY:Executive Committee Meeting
DESCRIPTION:The Executive Committee is composed of the Authority Board President\, Vice President\, Alternate Vice President and Immediate Past President (discretional). The Executive Committee is an advisory committee to the Board of Directors and oversees issues related to finances\, personal\, and agency policies.
URL:https://svswa.org/event/executive-committee-meeting-40/
END:VEVENT
BEGIN:VEVENT
DTSTART;TZID=America/Los_Angeles:20230817T180000
DTEND;TZID=America/Los_Angeles:20230817T200000
DTSTAMP:20260422T155416
CREATED:20230216T193551Z
LAST-MODIFIED:20230216T193551Z
UID:26662-1692295200-1692302400@svswa.org
SUMMARY:Board of Directors Meeting
DESCRIPTION:The Board of Directors consists of 9 Board Members with 6 alternate representatives. The Board meets every 3rd Thursday of the month at 6:00 p.m.\, unless otherwise noted\, in the City of Gonzales Council Chambers\, 117 Fourth Street\, Gonzales\, CA 93926.
URL:https://svswa.org/event/board-of-directors-meeting-39/
END:VEVENT
END:VCALENDAR