BEGIN:VCALENDAR
VERSION:2.0
PRODID:-//Salinas Valley Solid Waste Authority - ECPv6.15.13//NONSGML v1.0//EN
CALSCALE:GREGORIAN
METHOD:PUBLISH
X-WR-CALNAME:Salinas Valley Solid Waste Authority
X-ORIGINAL-URL:https://svswa.org
X-WR-CALDESC:Events for Salinas Valley Solid Waste Authority
REFRESH-INTERVAL;VALUE=DURATION:PT1H
X-Robots-Tag:noindex
X-PUBLISHED-TTL:PT1H
BEGIN:VTIMEZONE
TZID:America/Los_Angeles
BEGIN:DAYLIGHT
TZOFFSETFROM:-0800
TZOFFSETTO:-0700
TZNAME:PDT
DTSTART:20230312T100000
END:DAYLIGHT
BEGIN:STANDARD
TZOFFSETFROM:-0700
TZOFFSETTO:-0800
TZNAME:PST
DTSTART:20231105T090000
END:STANDARD
BEGIN:DAYLIGHT
TZOFFSETFROM:-0800
TZOFFSETTO:-0700
TZNAME:PDT
DTSTART:20240310T100000
END:DAYLIGHT
BEGIN:STANDARD
TZOFFSETFROM:-0700
TZOFFSETTO:-0800
TZNAME:PST
DTSTART:20241103T090000
END:STANDARD
BEGIN:DAYLIGHT
TZOFFSETFROM:-0800
TZOFFSETTO:-0700
TZNAME:PDT
DTSTART:20250309T100000
END:DAYLIGHT
BEGIN:STANDARD
TZOFFSETFROM:-0700
TZOFFSETTO:-0800
TZNAME:PST
DTSTART:20251102T090000
END:STANDARD
BEGIN:DAYLIGHT
TZOFFSETFROM:-0800
TZOFFSETTO:-0700
TZNAME:PDT
DTSTART:20260308T100000
END:DAYLIGHT
BEGIN:STANDARD
TZOFFSETFROM:-0700
TZOFFSETTO:-0800
TZNAME:PST
DTSTART:20261101T090000
END:STANDARD
END:VTIMEZONE
BEGIN:VEVENT
DTSTART;TZID=America/Los_Angeles:20251203T143000
DTEND;TZID=America/Los_Angeles:20251203T153000
DTSTAMP:20260422T155222
CREATED:20241217T235634Z
LAST-MODIFIED:20251203T215602Z
UID:36687-1764772200-1764775800@svswa.org
SUMMARY:Executive Committee Meeting - Canceled
DESCRIPTION:The Executive Committee is composed of the Authority Board President\, Vice President\, Alternate Vice President and Immediate Past President (discretional). The Executive Committee is an advisory committee to the Board of Directors and oversees issues related to finance\, personnel\, and agency policies.
URL:https://svswa.org/event/executive-committee-meeting-tentative-4/
END:VEVENT
BEGIN:VEVENT
DTSTART;TZID=America/Los_Angeles:20251120T180000
DTEND;TZID=America/Los_Angeles:20251120T200000
DTSTAMP:20260422T155222
CREATED:20241217T234137Z
LAST-MODIFIED:20241217T234137Z
UID:36651-1763661600-1763668800@svswa.org
SUMMARY:Board of Directors Meeting
DESCRIPTION:The Board of Directors consists of 9 Board Members with 6 alternate representatives. The Board meets every 3rd Thursday of the month at 6:00 p.m.\, unless otherwise noted\, in the City of Gonzales Council Chambers\, 117 Fourth Street\, Gonzales\, CA 93926.
URL:https://svswa.org/event/board-of-directors-meeting-63/
END:VEVENT
BEGIN:VEVENT
DTSTART;TZID=America/Los_Angeles:20251105T143000
DTEND;TZID=America/Los_Angeles:20251105T153000
DTSTAMP:20260422T155222
CREATED:20241217T235551Z
LAST-MODIFIED:20241217T235551Z
UID:36684-1762353000-1762356600@svswa.org
SUMMARY:Executive Committee Meeting
DESCRIPTION:The Executive Committee is composed of the Authority Board President\, Vice President\, Alternate Vice President and Immediate Past President (discretional). The Executive Committee is an advisory committee to the Board of Directors and oversees issues related to finance\, personnel\, and agency policies.
URL:https://svswa.org/event/executive-committee-meeting-62/
END:VEVENT
BEGIN:VEVENT
DTSTART;TZID=America/Los_Angeles:20251016T180000
DTEND;TZID=America/Los_Angeles:20251016T200000
DTSTAMP:20260422T155222
CREATED:20241217T234102Z
LAST-MODIFIED:20241217T234102Z
UID:36648-1760637600-1760644800@svswa.org
SUMMARY:Board of Directors Meeting
DESCRIPTION:The Board of Directors consists of 9 Board Members with 6 alternate representatives. The Board meets every 3rd Thursday of the month at 6:00 p.m.\, unless otherwise noted\, in the City of Gonzales Council Chambers\, 117 Fourth Street\, Gonzales\, CA 93926.
URL:https://svswa.org/event/board-of-directors-meeting-62/
END:VEVENT
BEGIN:VEVENT
DTSTART;TZID=America/Los_Angeles:20251001T143000
DTEND;TZID=America/Los_Angeles:20251001T153000
DTSTAMP:20260422T155222
CREATED:20241217T235516Z
LAST-MODIFIED:20241217T235516Z
UID:36681-1759329000-1759332600@svswa.org
SUMMARY:Executive Committee Meeting
DESCRIPTION:The Executive Committee is composed of the Authority Board President\, Vice President\, Alternate Vice President and Immediate Past President (discretional). The Executive Committee is an advisory committee to the Board of Directors and oversees issues related to finance\, personnel\, and agency policies.
URL:https://svswa.org/event/executive-committee-meeting-61/
END:VEVENT
BEGIN:VEVENT
DTSTART;TZID=America/Los_Angeles:20250918T180000
DTEND;TZID=America/Los_Angeles:20250918T200000
DTSTAMP:20260422T155222
CREATED:20241217T234019Z
LAST-MODIFIED:20241217T234019Z
UID:36645-1758218400-1758225600@svswa.org
SUMMARY:Board of Directors Meeting
DESCRIPTION:The Board of Directors consists of 9 Board Members with 6 alternate representatives. The Board meets every 3rd Thursday of the month at 6:00 p.m.\, unless otherwise noted\, in the City of Gonzales Council Chambers\, 117 Fourth Street\, Gonzales\, CA 93926.
URL:https://svswa.org/event/board-of-directors-meeting-61/
END:VEVENT
BEGIN:VEVENT
DTSTART;TZID=America/Los_Angeles:20250903T143000
DTEND;TZID=America/Los_Angeles:20250903T153000
DTSTAMP:20260422T155222
CREATED:20241217T235444Z
LAST-MODIFIED:20241217T235444Z
UID:36678-1756909800-1756913400@svswa.org
SUMMARY:Executive Committee Meeting
DESCRIPTION:The Executive Committee is composed of the Authority Board President\, Vice President\, Alternate Vice President and Immediate Past President (discretional). The Executive Committee is an advisory committee to the Board of Directors and oversees issues related to finance\, personnel\, and agency policies.
URL:https://svswa.org/event/executive-committee-meeting-60/
END:VEVENT
BEGIN:VEVENT
DTSTART;TZID=America/Los_Angeles:20250821T180000
DTEND;TZID=America/Los_Angeles:20250821T200000
DTSTAMP:20260422T155222
CREATED:20241217T233938Z
LAST-MODIFIED:20241217T233938Z
UID:36642-1755799200-1755806400@svswa.org
SUMMARY:Board of Directors Meeting
DESCRIPTION:The Board of Directors consists of 9 Board Members with 6 alternate representatives. The Board meets every 3rd Thursday of the month at 6:00 p.m.\, unless otherwise noted\, in the City of Gonzales Council Chambers\, 117 Fourth Street\, Gonzales\, CA 93926.
URL:https://svswa.org/event/board-of-directors-meeting-60/
END:VEVENT
BEGIN:VEVENT
DTSTART;TZID=America/Los_Angeles:20250806T143000
DTEND;TZID=America/Los_Angeles:20250806T153000
DTSTAMP:20260422T155222
CREATED:20241217T235407Z
LAST-MODIFIED:20241217T235407Z
UID:36675-1754490600-1754494200@svswa.org
SUMMARY:Executive Committee Meeting
DESCRIPTION:The Executive Committee is composed of the Authority Board President\, Vice President\, Alternate Vice President and Immediate Past President (discretional). The Executive Committee is an advisory committee to the Board of Directors and oversees issues related to finance\, personnel\, and agency policies.
URL:https://svswa.org/event/executive-committee-meeting-59/
END:VEVENT
BEGIN:VEVENT
DTSTART;TZID=America/Los_Angeles:20250628T100000
DTEND;TZID=America/Los_Angeles:20250628T110000
DTSTAMP:20260422T155222
CREATED:20241216T210559Z
LAST-MODIFIED:20241216T210559Z
UID:36588-1751104800-1751108400@svswa.org
SUMMARY:Compost Workshop
DESCRIPTION:
URL:https://svswa.org/event/compost-workshop-7/
LOCATION:King City Fairgrounds\, 625 Division Street\, King City\, CA\, 93930\, United States
CATEGORIES:Free Compost Workshops
ORGANIZER;CN="Estela Guerrero":MAILTO:estelag@svswa.org
END:VEVENT
BEGIN:VEVENT
DTSTART;TZID=America/Los_Angeles:20250626T180000
DTEND;TZID=America/Los_Angeles:20250626T200000
DTSTAMP:20260422T155222
CREATED:20241217T233903Z
LAST-MODIFIED:20241217T233903Z
UID:36639-1750960800-1750968000@svswa.org
SUMMARY:Board of Directors Meeting
DESCRIPTION:The Board of Directors consists of 9 Board Members with 6 alternate representatives. The Board meets every 3rd Thursday of the month at 6:00 p.m.\, unless otherwise noted\, in the City of Gonzales Council Chambers\, 117 Fourth Street\, Gonzales\, CA 93926.
URL:https://svswa.org/event/board-of-directors-meeting-59/
END:VEVENT
BEGIN:VEVENT
DTSTART;TZID=America/Los_Angeles:20250604T143000
DTEND;TZID=America/Los_Angeles:20250604T153000
DTSTAMP:20260422T155222
CREATED:20241217T235158Z
LAST-MODIFIED:20241217T235158Z
UID:36671-1749047400-1749051000@svswa.org
SUMMARY:Executive Committee Meeting
DESCRIPTION:The Executive Committee is composed of the Authority Board President\, Vice President\, Alternate Vice President and Immediate Past President (discretional). The Executive Committee is an advisory committee to the Board of Directors and oversees issues related to finance\, personnel\, and agency policies.
URL:https://svswa.org/event/executive-committee-meeting-58/
END:VEVENT
BEGIN:VEVENT
DTSTART;TZID=America/Los_Angeles:20250517T100000
DTEND;TZID=America/Los_Angeles:20250517T110000
DTSTAMP:20260422T155222
CREATED:20241216T210338Z
LAST-MODIFIED:20241216T210338Z
UID:36586-1747476000-1747479600@svswa.org
SUMMARY:Compost Workshop
DESCRIPTION:
URL:https://svswa.org/event/compost-workshop-6/
LOCATION:Johnson Canyon Landfill\, 31400 Johnson Canyon Road\, Gonzales\, CA\, 93926\, United States
CATEGORIES:Free Compost Workshops
ATTACH;FMTTYPE=image/jpeg:https://svswa.org/wp-content/uploads/2024/12/How-to-build-a-compost-pile-scaled.jpg
ORGANIZER;CN="Estela Guerrero":MAILTO:estelag@svswa.org
END:VEVENT
BEGIN:VEVENT
DTSTART;TZID=America/Los_Angeles:20250515T180000
DTEND;TZID=America/Los_Angeles:20250515T200000
DTSTAMP:20260422T155222
CREATED:20241217T233740Z
LAST-MODIFIED:20241217T233740Z
UID:36635-1747332000-1747339200@svswa.org
SUMMARY:Board of Directors Meeting
DESCRIPTION:
URL:https://svswa.org/event/board-of-directors-meeting-57/
END:VEVENT
BEGIN:VEVENT
DTSTART;TZID=America/Los_Angeles:20250430T143000
DTEND;TZID=America/Los_Angeles:20250430T153000
DTSTAMP:20260422T155222
CREATED:20241217T235109Z
LAST-MODIFIED:20241217T235109Z
UID:36668-1746023400-1746027000@svswa.org
SUMMARY:Executive Committee Meeting
DESCRIPTION:The Executive Committee is composed of the Authority Board President\, Vice President\, Alternate Vice President and Immediate Past President (discretional). The Executive Committee is an advisory committee to the Board of Directors and oversees issues related to finance\, personnel\, and agency policies.
URL:https://svswa.org/event/executive-committee-meeting-57/
END:VEVENT
BEGIN:VEVENT
DTSTART;TZID=America/Los_Angeles:20250417T180000
DTEND;TZID=America/Los_Angeles:20250417T200000
DTSTAMP:20260422T155222
CREATED:20241217T233705Z
LAST-MODIFIED:20241217T233705Z
UID:36632-1744912800-1744920000@svswa.org
SUMMARY:Board of Directors Meeting
DESCRIPTION:The Board of Directors consists of 9 Board Members with 6 alternate representatives. The Board meets every 3rd Thursday of the month at 6:00 p.m.\, unless otherwise noted\, in the City of Gonzales Council Chambers\, 117 Fourth Street\, Gonzales\, CA 93926.
URL:https://svswa.org/event/board-of-directors-meeting-56/
END:VEVENT
BEGIN:VEVENT
DTSTART;TZID=America/Los_Angeles:20250412T100000
DTEND;TZID=America/Los_Angeles:20250412T113000
DTSTAMP:20260422T155222
CREATED:20250317T164718Z
LAST-MODIFIED:20250317T164718Z
UID:37010-1744452000-1744457400@svswa.org
SUMMARY:Compost Workshop
DESCRIPTION:
URL:https://svswa.org/event/compost-workshop-8/
LOCATION:Natividad Creek Park\, 1395 Nogal Drive\, Salinas\, CA\, 93905\, United States
ORGANIZER;CN="Estela Guerrero":MAILTO:estelag@svswa.org
END:VEVENT
BEGIN:VEVENT
DTSTART;TZID=America/Los_Angeles:20250402T143000
DTEND;TZID=America/Los_Angeles:20250402T153000
DTSTAMP:20260422T155222
CREATED:20241217T235032Z
LAST-MODIFIED:20241217T235032Z
UID:36665-1743604200-1743607800@svswa.org
SUMMARY:Executive Committee Meeting
DESCRIPTION:The Executive Committee is composed of the Authority Board President\, Vice President\, Alternate Vice President and Immediate Past President (discretional). The Executive Committee is an advisory committee to the Board of Directors and oversees issues related to finance\, personnel\, and agency policies.
URL:https://svswa.org/event/executive-committee-meeting-56/
END:VEVENT
BEGIN:VEVENT
DTSTART;TZID=America/Los_Angeles:20250320T180000
DTEND;TZID=America/Los_Angeles:20250320T200000
DTSTAMP:20260422T155222
CREATED:20241217T233625Z
LAST-MODIFIED:20241217T233625Z
UID:36629-1742493600-1742500800@svswa.org
SUMMARY:Board of Directors Meeting
DESCRIPTION:The Board of Directors consists of 9 Board Members with 6 alternate representatives. The Board meets every 3rd Thursday of the month at 6:00 p.m.\, unless otherwise noted\, in the City of Gonzales Council Chambers\, 117 Fourth Street\, Gonzales\, CA 93926.
URL:https://svswa.org/event/board-of-directors-meeting-55/
END:VEVENT
BEGIN:VEVENT
DTSTART;TZID=America/Los_Angeles:20250305T143000
DTEND;TZID=America/Los_Angeles:20250305T153000
DTSTAMP:20260422T155222
CREATED:20241217T234945Z
LAST-MODIFIED:20241217T234945Z
UID:36662-1741185000-1741188600@svswa.org
SUMMARY:Executive Committee Meeting
DESCRIPTION:The Executive Committee is composed of the Authority Board President\, Vice President\, Alternate Vice President and Immediate Past President (discretional). The Executive Committee is an advisory committee to the Board of Directors and oversees issues related to finance\, personnel\, and agency policies.
URL:https://svswa.org/event/executive-committee-meeting-55/
END:VEVENT
BEGIN:VEVENT
DTSTART;TZID=America/Los_Angeles:20250222T100000
DTEND;TZID=America/Los_Angeles:20250222T110000
DTSTAMP:20260422T155222
CREATED:20241216T205713Z
LAST-MODIFIED:20241216T205804Z
UID:36579-1740218400-1740222000@svswa.org
SUMMARY:Compost Workshop
DESCRIPTION:
URL:https://svswa.org/event/36579/
LOCATION:Jardin El Sol\, 139 Sun Street\, Salinas\, CA\, 93901\, United States
CATEGORIES:Free Compost Workshops
ATTACH;FMTTYPE=image/jpeg:https://svswa.org/wp-content/uploads/2024/12/How-to-build-a-compost-pile-scaled.jpg
ORGANIZER;CN="Estela Guerrero":MAILTO:estelag@svswa.org
END:VEVENT
BEGIN:VEVENT
DTSTART;TZID=America/Los_Angeles:20250220T180000
DTEND;TZID=America/Los_Angeles:20250220T200000
DTSTAMP:20260422T155222
CREATED:20241217T233433Z
LAST-MODIFIED:20241217T233433Z
UID:36626-1740074400-1740081600@svswa.org
SUMMARY:Board of Directors Meeting
DESCRIPTION:The Board of Directors consists of 9 Board Members with 6 alternate representatives. The Board meets every 3rd Thursday of the month at 6:00 p.m.\, unless otherwise noted\, in the City of Gonzales Council Chambers\, 117 Fourth Street\, Gonzales\, CA 93926.
URL:https://svswa.org/event/board-of-directors-meeting-54/
END:VEVENT
BEGIN:VEVENT
DTSTART;TZID=America/Los_Angeles:20250205T143000
DTEND;TZID=America/Los_Angeles:20250205T153000
DTSTAMP:20260422T155222
CREATED:20241217T234845Z
LAST-MODIFIED:20241217T234856Z
UID:36659-1738765800-1738769400@svswa.org
SUMMARY:Executive Committee Meeting
DESCRIPTION:The Executive Committee is composed of the Authority Board President\, Vice President\, Alternate Vice President and Immediate Past President (discretional). The Executive Committee is an advisory committee to the Board of Directors and oversees issues related to finance\, personnel\, and agency policies.
URL:https://svswa.org/event/executive-committee-meeting-54/
END:VEVENT
BEGIN:VEVENT
DTSTART;TZID=America/Los_Angeles:20250123T180000
DTEND;TZID=America/Los_Angeles:20250123T200000
DTSTAMP:20260422T155222
CREATED:20241217T210246Z
LAST-MODIFIED:20241217T210324Z
UID:36621-1737655200-1737662400@svswa.org
SUMMARY:Board of Directors Meeting
DESCRIPTION:The Board of Directors consists of 9 Board Members with 6 alternate representatives. The Board meets every 3rd Thursday of the month at 6:00 p.m.\, unless otherwise noted\, in the City of Gonzales Council Chambers\, 117 Fourth Street\, Gonzales\, CA 93926.
URL:https://svswa.org/event/board-of-directors-meeting-53/
END:VEVENT
BEGIN:VEVENT
DTSTART;TZID=America/Los_Angeles:20250118T100000
DTEND;TZID=America/Los_Angeles:20250118T110000
DTSTAMP:20260422T155222
CREATED:20241216T205927Z
LAST-MODIFIED:20241216T205927Z
UID:36583-1737194400-1737198000@svswa.org
SUMMARY:
DESCRIPTION:
URL:https://svswa.org/event/36583/
LOCATION:Jardin El Sol\, 139 Sun Street\, Salinas\, CA\, 93901\, United States
CATEGORIES:Free Compost Workshops
ATTACH;FMTTYPE=image/jpeg:https://svswa.org/wp-content/uploads/2024/12/How-to-build-a-compost-pile-scaled.jpg
ORGANIZER;CN="Estela Guerrero":MAILTO:estelag@svswa.org
END:VEVENT
BEGIN:VEVENT
DTSTART;TZID=America/Los_Angeles:20250108T143000
DTEND;TZID=America/Los_Angeles:20250108T153000
DTSTAMP:20260422T155222
CREATED:20241217T234807Z
LAST-MODIFIED:20241217T234807Z
UID:36657-1736346600-1736350200@svswa.org
SUMMARY:Executive Committee Meeting
DESCRIPTION:The Executive Committee is composed of the Authority Board President\, Vice President\, Alternate Vice President and Immediate Past President (discretional). The Executive Committee is an advisory committee to the Board of Directors and oversees issues related to finance\, personnel\, and agency policies.
URL:https://svswa.org/event/executive-committee-meeting-53/
END:VEVENT
BEGIN:VEVENT
DTSTART;TZID=America/Los_Angeles:20241219T180000
DTEND;TZID=America/Los_Angeles:20241219T200000
DTSTAMP:20260422T155222
CREATED:20240103T200420Z
LAST-MODIFIED:20240103T200420Z
UID:33871-1734631200-1734638400@svswa.org
SUMMARY:Board of Directors Meeting - Tentative
DESCRIPTION:The Board of Directors consists of 9 Board Members with 6 alternate representatives. The Board meets every 3rd Thursday of the month at 6:00 p.m.\, unless otherwise noted\, in the City of Gonzales Council Chambers\, 117 Fourth Street\, Gonzales\, CA 93926.
URL:https://svswa.org/event/board-of-directors-meeting-tentative-3/
END:VEVENT
BEGIN:VEVENT
DTSTART;TZID=America/Los_Angeles:20241204T143000
DTEND;TZID=America/Los_Angeles:20241204T153000
DTSTAMP:20260422T155222
CREATED:20240103T195342Z
LAST-MODIFIED:20240702T163252Z
UID:33840-1733322600-1733326200@svswa.org
SUMMARY:Executive Committee Meeting - Tentative
DESCRIPTION:The Executive Committee is composed of the Authority Board President\, Vice President\, Alternate Vice President and Immediate Past President (discretional). The Executive Committee is an advisory committee to the Board of Directors and oversees issues related to finances\, personal\, and agency policies.
URL:https://svswa.org/event/executive-committee-meeting-tentative-3/
END:VEVENT
BEGIN:VEVENT
DTSTART;TZID=America/Los_Angeles:20241121T180000
DTEND;TZID=America/Los_Angeles:20241121T200000
DTSTAMP:20260422T155222
CREATED:20240103T200339Z
LAST-MODIFIED:20240103T200339Z
UID:33868-1732212000-1732219200@svswa.org
SUMMARY:Board of Directors Meeting
DESCRIPTION:The Board of Directors consists of 9 Board Members with 6 alternate representatives. The Board meets every 3rd Thursday of the month at 6:00 p.m.\, unless otherwise noted\, in the City of Gonzales Council Chambers\, 117 Fourth Street\, Gonzales\, CA 93926.
URL:https://svswa.org/event/board-of-directors-meeting-52/
END:VEVENT
BEGIN:VEVENT
DTSTART;TZID=America/Los_Angeles:20241116T110000
DTEND;TZID=America/Los_Angeles:20241116T140000
DTSTAMP:20260422T155222
CREATED:20240819T205045Z
LAST-MODIFIED:20240819T205621Z
UID:35527-1731754800-1731765600@svswa.org
SUMMARY:Wally'sRecycleFest!
DESCRIPTION:Join us for a fun-filled afternoon as we celebrate America Recycles Day\, the Wally Waste-Not way! \n  \nSave the Date for Saturday\, November 16th from 11am-2pm and come down to the Education Center and Garden on the eastern portion of Johnson Canyon Landfill. We’ll have games\, food\, giveaways\, and workshops to celebrate sustainability success together! \n  \nEducation Center – Johnson Canyon Landfill
URL:https://svswa.org/event/wallysrecyclefest/
LOCATION:Johnson Canyon Landfill\, 31400 Johnson Canyon Road\, Gonzales\, CA\, 93926\, United States
ORGANIZER;CN="Julia Brooker":MAILTO:juliab@svswa.org
END:VEVENT
END:VCALENDAR