BEGIN:VCALENDAR
VERSION:2.0
PRODID:-//Salinas Valley Solid Waste Authority - ECPv6.15.13//NONSGML v1.0//EN
CALSCALE:GREGORIAN
METHOD:PUBLISH
X-WR-CALNAME:Salinas Valley Solid Waste Authority
X-ORIGINAL-URL:https://svswa.org
X-WR-CALDESC:Events for Salinas Valley Solid Waste Authority
REFRESH-INTERVAL;VALUE=DURATION:PT1H
X-Robots-Tag:noindex
X-PUBLISHED-TTL:PT1H
BEGIN:VTIMEZONE
TZID:America/Los_Angeles
BEGIN:DAYLIGHT
TZOFFSETFROM:-0800
TZOFFSETTO:-0700
TZNAME:PDT
DTSTART:20180311T100000
END:DAYLIGHT
BEGIN:STANDARD
TZOFFSETFROM:-0700
TZOFFSETTO:-0800
TZNAME:PST
DTSTART:20181104T090000
END:STANDARD
BEGIN:DAYLIGHT
TZOFFSETFROM:-0800
TZOFFSETTO:-0700
TZNAME:PDT
DTSTART:20190310T100000
END:DAYLIGHT
BEGIN:STANDARD
TZOFFSETFROM:-0700
TZOFFSETTO:-0800
TZNAME:PST
DTSTART:20191103T090000
END:STANDARD
BEGIN:DAYLIGHT
TZOFFSETFROM:-0800
TZOFFSETTO:-0700
TZNAME:PDT
DTSTART:20200308T100000
END:DAYLIGHT
BEGIN:STANDARD
TZOFFSETFROM:-0700
TZOFFSETTO:-0800
TZNAME:PST
DTSTART:20201101T090000
END:STANDARD
BEGIN:DAYLIGHT
TZOFFSETFROM:-0800
TZOFFSETTO:-0700
TZNAME:PDT
DTSTART:20210314T100000
END:DAYLIGHT
BEGIN:STANDARD
TZOFFSETFROM:-0700
TZOFFSETTO:-0800
TZNAME:PST
DTSTART:20211107T090000
END:STANDARD
END:VTIMEZONE
BEGIN:VEVENT
DTSTART;TZID=America/Los_Angeles:20200507T160000
DTEND;TZID=America/Los_Angeles:20200507T180000
DTSTAMP:20260423T161929
CREATED:20200309T232307Z
LAST-MODIFIED:20200309T232307Z
UID:9410-1588867200-1588874400@svswa.org
SUMMARY:Executive Committee Meeting
DESCRIPTION:The monthly meeting of the Salinas Valley Solid Waste Authority Executive Committee. The Executive Committee is composed of the Authority Board President\, Vice President\, Alternate Vice President and Immediate Past President (discretional). The Executive Committee is an advisory committee to the Board of Directors and oversees issues related to finances\, personal\, and agency policies. \nImportant Notice – Due to State\, County and local orders and recommendations on protocols to contain the spread of COVID-19\, all of the Executive Committee members will be attending remotely from various locations. Members of the public interested in observing the meeting may do so online at https://svswa.org/live-stream-meetings/ or on our YouTube channel https://www.youtube.com/user/svswa831. To make either a general public comment or to comment on a specific agenda item as it is being heard\, please submit your comment\, limited to 250 words or less\, to the Clerk of the Board at comment@svswa.org. Every effort will be made to read your comment into the record\, but some comments may not be read due to time limitations. Comments received after an agenda item will be made part of the record if received prior to the end of the meeting. Based on guidance from the California Department of Public Health and the California Governor’s Officer\, in order to minimize the spread of the COVID 19 virus by maintaining appropriate social distancing with a 6-foot distance between individuals and the limited space available there will be no observation room available for the public. \nAviso Importante – Debido a las órdenes y recomendaciones estatales\, del condado y locales sobre los protocolos para minimizar la propagación de virus COVID-19\, todos los miembros del Comité asistirán de forma remota desde varios lugares. Para cumplir con las ordenes de mantener el distanciamiento social adecuado entre personas y el espacio limitado disponible\, no habrá sala de observación disponible para el público. Miembros del publico interesados en observar la transmisión en vivo de la reunión del Consejo Directivo pueden hacerlo en nuestra página web https://svswa.org/live-stream-meetings/ o el canal de YouTube https://www.youtube.com/user/svswa831. Para hacer un comentario público general o comentar en un tema específico de la agenda mientras escucha\, envíe su comentario\, limitado a 250 palabras o menos\, a la Secretaria del Consejo a comment@svswa.org. Se hará todo lo posible para leer su comentario en el registro\, pero algunos comentarios pueden no leerse debido a limitaciones de tiempo. Los comentarios recibidos después del tema de la agenda serán parte del registro si se reciben antes del final de la reunión.
URL:https://svswa.org/event/executive-committee-meeting-6/
CATEGORIES:Upcoming Events
END:VEVENT
BEGIN:VEVENT
DTSTART;TZID=America/Los_Angeles:20200422T160000
DTEND;TZID=America/Los_Angeles:20200422T170000
DTSTAMP:20260423T161929
CREATED:20200422T171053Z
LAST-MODIFIED:20200422T171053Z
UID:9695-1587571200-1587574800@svswa.org
SUMMARY:Executive Committee Special Meeting
DESCRIPTION:Important Notice \nDue to State\, County and local orders and recommendations on protocols to contain the spread of COVID-19\, all of the Executive Committee members will be attending remotely from various locations. Members of the public interested in observing the meeting may do so online at https://svswa.org/live-stream-meetings/ or on our YouTube channel https://www.youtube.com/user/svswa831. To make either a general public comment or to comment on a specific agenda item as it is being heard\, please submit your comment\, limited to 250 words or less\, to the Clerk of the Board at comment@svswa.org. Every effort will be made to read your comment into the record\, but some comments may not be read due to time limitations. Comments received after an agenda item will be made part of the record if received prior to the end of the meeting. Based on guidance from the California Department of Public Health and the California Governor’s Officer\, in order to minimize the spread of the COVID 19 virus by maintaining appropriate social distancing with a 6-foot distance between individuals and the limited space available there will be no observation room available for the public.
URL:https://svswa.org/event/executive-committee-special-meeting-2/
END:VEVENT
BEGIN:VEVENT
DTSTART;TZID=America/Los_Angeles:20200416T160000
DTEND;TZID=America/Los_Angeles:20200416T180000
DTSTAMP:20260423T161929
CREATED:20200309T234041Z
LAST-MODIFIED:20200309T234041Z
UID:9418-1587052800-1587060000@svswa.org
SUMMARY:Board of Directors Special Meeting
DESCRIPTION:Important Notice – Due to State\, and County orders and guidance from the California Department of Public Health and the California Governor’s Officer\, in order to minimize the spread of the COVID 19 virus to contain the spread of COVID-19\, all of the Board members will be attending remotely from various locations. To comply with the social distance between individuals and limited space available there will be no observation room available to for the public. Members of the public interested in observing the meeting may do so online at https://svswa.org/live-stream-meetings/ or on our YouTube channel https://www.youtube.com/user/svswa831. To make either a general public comment or to comment on a specific agenda item as it is being heard\, please submit your comment\, limited to 250 words or less\, to the Clerk of the Board at comment@svswa.org. Every effort will be made to read your comment into the record\, but some comments may not be read due to time limitations. Comments received after an agenda item will be made part of the record if received prior to the end of the meeting. \nAviso Importante – Debido a las órdenes y recomendaciones estatales\, del condado y locales sobre los protocolos para minimizar la propagación de virus COVID-19\, todos los miembros del Consejo Directivo asistirán de forma remota desde varios lugares. Para cumplir con las ordenes de mantener el distanciamiento social adecuado entre personas y el espacio limitado disponible\, no habrá sala de observación disponible para el público. Miembros del publico interesados en observar la transmisión en vivo de la reunión del Consejo Directivo pueden hacerlo en nuestra página web https://svswa.org/live-stream-meetings/ o el canal de YouTube https://www.youtube.com/user/svswa831. Para hacer un comentario público general o comentar en un tema específico de la agenda mientras escucha\, envíe su comentario\, limitado a 250 palabras o menos\, a la Secretaria del Consejo a comment@svswa.org. Se hará todo lo posible para leer su comentario en el registro\, pero algunos comentarios pueden no leerse debido a limitaciones de tiempo. Los comentarios recibidos después del tema de la agenda serán parte del registro si se reciben antes del final de la reunión.
URL:https://svswa.org/event/board-of-directors-meeting-6/
CATEGORIES:Upcoming Events
END:VEVENT
BEGIN:VEVENT
DTSTART;TZID=America/Los_Angeles:20200402T160000
DTEND;TZID=America/Los_Angeles:20200402T180000
DTSTAMP:20260423T161929
CREATED:20200305T001033Z
LAST-MODIFIED:20200305T001033Z
UID:9380-1585843200-1585850400@svswa.org
SUMMARY:Executive Committee Meeting
DESCRIPTION:The monthly meeting of the Salinas Valley Solid Waste Authority Executive Committee. The Executive Committee is composed of the Authority Board President\, Vice President\, Alternate Vice President and Immediate Past President (discretional). The Executive Committee is an advisory committee to the Board of Directors and oversees issues related to finances\, personal\, and agency policies.
URL:https://svswa.org/event/executive-committee-meeting-5/
CATEGORIES:Upcoming Events
END:VEVENT
BEGIN:VEVENT
DTSTART;TZID=America/Los_Angeles:20200326T160000
DTEND;TZID=America/Los_Angeles:20200326T180000
DTSTAMP:20260423T161929
CREATED:20200324T184424Z
LAST-MODIFIED:20200324T184424Z
UID:9560-1585238400-1585245600@svswa.org
SUMMARY:Board of Directors Special Meeting
DESCRIPTION:Important Notice  \nDue to State\, County and local orders and recommendations on protocols to contain the spread of COVID-19\, all of the Board of Directors will be attending remotely from various locations. Members of the public will only be allowed to submit comments via email. \nBased on guidance from the California Department of Public Health and the California Governor’s Officer\, in order to minimize the spread of the COVID 19 virus\, please do the following: \n\nYou are strongly encouraged to observe the live stream of the Board of Directors meeting on our website at https://svswa.org/live-stream-meetings/ or on our YouTube channel https://www.youtube.com/user/svswa831.\nIf you choose not to attend the Board of Directors meeting but wish to make a comment on a specific agenda item\, please submit your comment via email by 5:00 p.m. on the Wednesday prior to the meeting. Please submit your comment to the Clerk of the Board at comment@svswa.org. Your comment will be placed into the record at the Board of Directors meeting.\nIf you are watching the live stream of the Board of Directors meeting and wish to make either a general public comment or to comment on a specific agenda item as it is being heard\, please submit your comment\, limited to 250 words or less\, to the Clerk of the Board at comment@svswa.org. Every effort will be made to read your comment into the record\, but some comments may not be read due to time limitations. Comments received after an agenda item will be made part of the record if received prior to the end of the meeting.\nLimited seating with audio/video of the Board of Directors meeting will be available in the Large Conference Room.\nIf you attend the Board of Directors meeting in person\, you will be required to maintain appropriate social distancing\, i.e.\, maintain a 6-foot distance between yourself and other individuals. You will still be required to submit your comments via email.\n\nAviso Importante \nDebido a las órdenes y recomendaciones estatales\, del condado y locales sobre los protocolos para minimizar la propagación de virus COVID-19\, todos los miembros del Consejo Directivo asistirán de forma remota desde varios lugares. Los miembros del público solo podrán proveer comentarios por correo electrónico. \nBasado en la orientación del Departamento de Salud Pública de California y el Oficial del Gobernador de California\, para minimizar la propagación del virus COVID 19\, haga lo siguiente: \n\nLe recomendamos encarecidamente que observe la transmisión en vivo de la reunión del Consejo Directivo en nuestra página https://svswa.org/live-stream-meetings/ o el canal de YouTube https://www.youtube.com/user/svswa831.\nSi elige no asistir a la reunión del Consejo Directivo\, pero desea hacer un comentario sobre un tema específico de la agenda\, envíe su comentario por correo electrónico antes de las 5:00 p.m. el miércoles anterior a la reunión. Envíe su comentario al Secretaria del Consejo a comment@svswa.org. Su comentario se incluirá en el registro en la reunión del Consejo Directivo.\nSi está escuchando la transmisión en vivo de la reunión del Consejo Directivo y desea hacer un comentario público general o comentar en un tema específico de la agenda mientras escucha\, envíe su comentario\, limitado a 250 palabras o menos\, a la Secretaria del Consejo a comment@svswa.org. Se hará todo lo posible para leer su comentario en el registro\, pero algunos comentarios pueden no leerse debido a limitaciones de tiempo. Los comentarios recibidos después del tema de la agenda serán parte del registro si se reciben antes del final de la reunión.\nAbra asientos limitados con audio / video de la reunión del Consejo Directivo disponibles en la Sala de Conferencias.\nSi asiste a la reunión del Consejo Directivo en persona\, usted será requerido a mantener el distanciamiento social adecuado\, es decir\, mantener una distancia de 6 pies entre usted y otras personas. Aún deberá enviar sus comentarios por correo electrónico.
URL:https://svswa.org/event/board-of-directors-special-meeting/
CATEGORIES:Upcoming Events
END:VEVENT
BEGIN:VEVENT
DTSTART;TZID=America/Los_Angeles:20200319T180000
DTEND;TZID=America/Los_Angeles:20200319T200000
DTSTAMP:20260423T161929
CREATED:20200305T001347Z
LAST-MODIFIED:20200305T001347Z
UID:9383-1584640800-1584648000@svswa.org
SUMMARY:Board of Directors Meeting - CANCELED
DESCRIPTION:The Board of Directors consists of 9 Board Members with 6 alternate representatives. The Board meets every 3rd Thursday of the month at 6:00 p.m.\, unless otherwise noted\, in the City of Gonzales Council Chambers\, 117 Fourth Street\, Gonzales\, CA 93926.
URL:https://svswa.org/event/board-of-directors-meeting-3/
CATEGORIES:Upcoming Events
END:VEVENT
BEGIN:VEVENT
DTSTART;TZID=America/Los_Angeles:20200319T163000
DTEND;TZID=America/Los_Angeles:20200319T170000
DTSTAMP:20260423T161929
CREATED:20200318T205025Z
LAST-MODIFIED:20200318T205025Z
UID:9514-1584635400-1584637200@svswa.org
SUMMARY:Executive Committee Special Meeting
DESCRIPTION:Special Executive Committee Meeting \nImportant Notice  \nDue to State\, County and local orders and recommendations on protocols to contain the spread of COVID-19\, all of the Executive Committee members will be attending remotely from various locations. Members of the public will only be allowed to submit comments via email. \nBased on guidance from the California Department of Public Health and the California Governor’s Officer\, in order to minimize the spread of the COVID 19 virus\, please do the following: \n\nYou are strongly encouraged to observe the live stream of the Executive Committee meeting on our website at https://svswa.org/live-stream-meetings/ or on our YouTube channel https://www.youtube.com/user/svswa831.\nIf you choose not to attend the Executive Committee meeting but wish to make a comment on a specific agenda item\, please submit your comment via email by 5:00 p.m. on the Wednesday prior to the meeting. Please submit your comment to the Clerk of the Board at comment@svswa.org. Your comment will be placed into the record at the Executive Committee meeting.\nIf you are watching the live stream of the Executive Committee meeting and wish to make either a general public comment or to comment on a specific agenda item as it is being heard\, please submit your comment\, limited to 250 words or less\, to the Clerk of the Board at comment@svswa.org. Every effort will be made to read your comment into the record\, but some comments may not be read due to time limitations. Comments received after an agenda item will be made part of the record if received prior to the end of the meeting.\nLimited seating with audio/video of the Executive Committee meeting will be available in the Large Conference Room.\nIf you attend the Executive Committee meeting in person\, you will be required to maintain appropriate social distancing\, i.e.\, maintain a 6-foot distance between yourself and other individuals. You will still be required to submit your comments via email.\n\nAviso Importante \nDebido a las órdenes y recomendaciones estatales\, del condado y locales sobre los protocolos para minimizar la propagación de virus COVID-19\, todos los miembros del Comité Ejecutivo asistirán de forma remota desde varios lugares. Los miembros del público solo podrán proveer comentarios por correo electrónico. \nBasado en la orientación del Departamento de Salud Pública de California y el Oficial del Gobernador de California\, para minimizar la propagación del virus COVID 19\, haga lo siguiente: \n\nLe recomendamos encarecidamente que observe la transmisión en vivo de la reunión del Comité Ejecutivo en nuestra pagina https://svswa.org/live-stream-meetings/ o el canal de YouTube https://www.youtube.com/user/svswa831.\nSi elige no asistir a la reunión del Comité Ejecutivo\, pero desea hacer un comentario sobre un tema específico de la agenda\, envíe su comentario por correo electrónico antes de las 5:00 p.m. el miércoles anterior a la reunión. Envíe su comentario al Secretaria del Consejo a comment@svswa.org. Su comentario se incluirá en el registro en la reunión del Comité Ejecutivo.\nSi está escuchando la transmisión en vivo de la reunión del Comité Ejecutivo y desea hacer un comentario público general o comentar en un tema específico de la agenda mientras escucha\, envíe su comentario\, limitado a 250 palabras o menos\, a la secretaria de la Consejo a comment@svswa.org. Se hará todo lo posible para leer su comentario en el registro\, pero algunos comentarios pueden no leerse debido a limitaciones de tiempo. Los comentarios recibidos después del tema de la agenda serán parte del registro si se reciben antes del final de la reunión.\nAbra asientos limitados con audio / video de la reunión del Comité Ejecutivo disponibles en la Sala de Conferencias.\nSi asiste a la reunión del Comité Ejecutivo en persona\, usted será requerido a mantener el distanciamiento social adecuado\, es decir\, mantener una distancia de 6 pies entre usted y otras personas. Aún deberá enviar sus comentarios por correo electrónico.
URL:https://svswa.org/event/executive-committee-special-meeting/
CATEGORIES:Upcoming Events
END:VEVENT
BEGIN:VEVENT
DTSTART;TZID=America/Los_Angeles:20200305T160000
DTEND;TZID=America/Los_Angeles:20200305T180000
DTSTAMP:20260423T161929
CREATED:20200305T000043Z
LAST-MODIFIED:20200305T000043Z
UID:9375-1583424000-1583431200@svswa.org
SUMMARY:Executive Committee Meeting
DESCRIPTION:The monthly meeting of the Salinas Valley Solid Waste Authority Executive Committee. The Executive Committee is composed of the Authority Board President\, Vice President\, Alternate Vice President and Immediate Past President (discretional). The Executive Committee is an advisory committee to the Board of Directors and oversees issues related to finances\, personal\, and agency policies.
URL:https://svswa.org/event/executive-committee-meeting-4/
CATEGORIES:Upcoming Events
END:VEVENT
BEGIN:VEVENT
DTSTART;TZID=America/Los_Angeles:20200222T100000
DTEND;TZID=America/Los_Angeles:20200222T110000
DTSTAMP:20260423T161929
CREATED:20200103T220232Z
LAST-MODIFIED:20200103T220232Z
UID:9057-1582365600-1582369200@svswa.org
SUMMARY:Composting Workshop
DESCRIPTION:FREE Home Composting Workshop \nCome and learn about: Worm composting\, backyard composting\, and convert your kitchen scrap into a rich nutrient soil.\nRegister today\, families are welcomed!  \nFREE worm bin raffled at end of workshop! \nThis Composting Workshop is hosted at the Rancho Cielo Garden. 
URL:https://svswa.org/event/composting-workshop-3/
CATEGORIES:Free Compost Workshops
END:VEVENT
BEGIN:VEVENT
DTSTART;TZID=America/Los_Angeles:20200220T180000
DTEND;TZID=America/Los_Angeles:20200220T200000
DTSTAMP:20260423T161929
CREATED:20200309T234546Z
LAST-MODIFIED:20200309T234546Z
UID:9422-1582221600-1582228800@svswa.org
SUMMARY:Board of Directors Meeting
DESCRIPTION:The Board of Directors consists of 9 Board Members with 6 alternate representatives. The Board meets every 3rd Thursday of the month at 6:00 p.m.\, unless otherwise noted\, in the City of Gonzales Council Chambers\, 117 Fourth Street\, Gonzales\, CA 93926.
URL:https://svswa.org/event/board-of-directors-meeting-7/
END:VEVENT
BEGIN:VEVENT
DTSTART;TZID=America/Los_Angeles:20200206T160000
DTEND;TZID=America/Los_Angeles:20200206T180000
DTSTAMP:20260423T161929
CREATED:20200309T234405Z
LAST-MODIFIED:20200309T234405Z
UID:9420-1581004800-1581012000@svswa.org
SUMMARY:Executive Committee Meeting
DESCRIPTION:The monthly meeting of the Salinas Valley Solid Waste Authority Executive Committee. The Executive Committee is composed of the Authority Board President\, Vice President\, Alternate Vice President and Immediate Past President (discretional). The Executive Committee is an advisory committee to the Board of Directors and oversees issues related to finances\, personal\, and agency policies.
URL:https://svswa.org/event/executive-committee-meeting-8/
CATEGORIES:Upcoming Events
END:VEVENT
BEGIN:VEVENT
DTSTART;TZID=America/Los_Angeles:20200125T100000
DTEND;TZID=America/Los_Angeles:20200125T110000
DTSTAMP:20260423T161929
CREATED:20200103T214209Z
LAST-MODIFIED:20200103T214209Z
UID:9031-1579946400-1579950000@svswa.org
SUMMARY:Composting Workshop
DESCRIPTION:FREE Home Composting Workshop \nCome and learn about: Worm composting\, backyard composting\, and convert your kitchen scrap into a rich nutrient soil.\nRegister today\, families are welcomed!  \nFREE worm bin raffled at end of workshop! \nComposting Workshop is hosted in the Jardin El Sol demonstration garden at the Sun Street Transfer Station and Recycling Center. 
URL:https://svswa.org/event/composting-workshop/
CATEGORIES:Free Compost Workshops
ATTACH;FMTTYPE=:
END:VEVENT
BEGIN:VEVENT
DTSTART;TZID=America/Los_Angeles:20200123T180000
DTEND;TZID=America/Los_Angeles:20200123T200000
DTSTAMP:20260423T161929
CREATED:20191217T200149Z
LAST-MODIFIED:20191217T200149Z
UID:8936-1579802400-1579809600@svswa.org
SUMMARY:Board of Directors Meeting
DESCRIPTION:The Board of Directors consists of 9 Board Members with 6 alternate representatives. The Board meets every 3rd Thursday of the month at 6:00 p.m.\, unless otherwise noted\, in the City of Gonzales Council Chambers\, 117 Fourth Street\, Gonzales\, CA 93926.
URL:https://svswa.org/event/board-of-directors-meeting-2/
CATEGORIES:Upcoming Events
END:VEVENT
BEGIN:VEVENT
DTSTART;TZID=America/Los_Angeles:20200109T160000
DTEND;TZID=America/Los_Angeles:20200109T180000
DTSTAMP:20260423T161929
CREATED:20191217T210515Z
LAST-MODIFIED:20191217T210515Z
UID:8941-1578585600-1578592800@svswa.org
SUMMARY:Executive Committee Meeting
DESCRIPTION:The monthly meeting of the Salinas Valley Solid Waste Authority Executive Committee. The Executive Committee is composed of the Authority Board President\, Vice President\, Alternate Vice President and Immediate Past President (discretional). The Executive Committee is an advisory committee to the Board of Directors and oversees issues related to finances\, personal\, and agency policies.
URL:https://svswa.org/event/executive-committee-meeting-2/
CATEGORIES:Upcoming Events
END:VEVENT
BEGIN:VEVENT
DTSTART;TZID=America/Los_Angeles:20191225T080000
DTEND;TZID=America/Los_Angeles:20191225T170000
DTSTAMP:20260423T161929
CREATED:20191209T183005Z
LAST-MODIFIED:20191209T183005Z
UID:8809-1577260800-1577293200@svswa.org
SUMMARY:Christmas Day - All Sites Closed
DESCRIPTION:
URL:https://svswa.org/event/christmas-day-all-sites-closed/
CATEGORIES:Upcoming Events
END:VEVENT
BEGIN:VEVENT
DTSTART;TZID=America/Los_Angeles:20191224T080000
DTEND;TZID=America/Los_Angeles:20191224T170000
DTSTAMP:20260423T161929
CREATED:20191209T182907Z
LAST-MODIFIED:20191209T182907Z
UID:8807-1577174400-1577206800@svswa.org
SUMMARY:Christmas Eve - Administration Office Closed; Sites Open
DESCRIPTION:
URL:https://svswa.org/event/christmas-eve-administration-office-closed-sites-open/
CATEGORIES:Upcoming Events
END:VEVENT
BEGIN:VEVENT
DTSTART;TZID=America/Los_Angeles:20191219T180000
DTEND;TZID=America/Los_Angeles:20191219T200000
DTSTAMP:20260423T161929
CREATED:20191209T182754Z
LAST-MODIFIED:20191209T182754Z
UID:8804-1576778400-1576785600@svswa.org
SUMMARY:Board of Directors Meeting - CANCELLED
DESCRIPTION:
URL:https://svswa.org/event/board-of-directors-meeting/
CATEGORIES:Upcoming Events
END:VEVENT
BEGIN:VEVENT
DTSTART;TZID=America/Los_Angeles:20191205T160000
DTEND;TZID=America/Los_Angeles:20191205T170000
DTSTAMP:20260423T161929
CREATED:20191209T182055Z
LAST-MODIFIED:20191209T182055Z
UID:8800-1575561600-1575565200@svswa.org
SUMMARY:Executive Committee Meeting
DESCRIPTION:The monthly meeting of the Salinas Valley Solid Waste Authority Executive Committee. The Executive Committee is composed of the Authority Board President\, Vice President\, Alternate Vice President and Immediate Past President (discretional). The Executive Committee is an advisory committee to the Board of Directors and oversees issues related to finances\, personal\, and agency policies.
URL:https://svswa.org/event/executive-committee-meeting/
CATEGORIES:Upcoming Events
END:VEVENT
END:VCALENDAR