BEGIN:VCALENDAR
VERSION:2.0
PRODID:-//Salinas Valley Solid Waste Authority - ECPv6.15.13//NONSGML v1.0//EN
CALSCALE:GREGORIAN
METHOD:PUBLISH
X-WR-CALNAME:Salinas Valley Solid Waste Authority
X-ORIGINAL-URL:https://svswa.org
X-WR-CALDESC:Events for Salinas Valley Solid Waste Authority
REFRESH-INTERVAL;VALUE=DURATION:PT1H
X-Robots-Tag:noindex
X-PUBLISHED-TTL:PT1H
BEGIN:VTIMEZONE
TZID:America/Los_Angeles
BEGIN:DAYLIGHT
TZOFFSETFROM:-0800
TZOFFSETTO:-0700
TZNAME:PDT
DTSTART:20200308T100000
END:DAYLIGHT
BEGIN:STANDARD
TZOFFSETFROM:-0700
TZOFFSETTO:-0800
TZNAME:PST
DTSTART:20201101T090000
END:STANDARD
BEGIN:DAYLIGHT
TZOFFSETFROM:-0800
TZOFFSETTO:-0700
TZNAME:PDT
DTSTART:20210314T100000
END:DAYLIGHT
BEGIN:STANDARD
TZOFFSETFROM:-0700
TZOFFSETTO:-0800
TZNAME:PST
DTSTART:20211107T090000
END:STANDARD
BEGIN:DAYLIGHT
TZOFFSETFROM:-0800
TZOFFSETTO:-0700
TZNAME:PDT
DTSTART:20220313T100000
END:DAYLIGHT
BEGIN:STANDARD
TZOFFSETFROM:-0700
TZOFFSETTO:-0800
TZNAME:PST
DTSTART:20221106T090000
END:STANDARD
BEGIN:DAYLIGHT
TZOFFSETFROM:-0800
TZOFFSETTO:-0700
TZNAME:PDT
DTSTART:20230312T100000
END:DAYLIGHT
BEGIN:STANDARD
TZOFFSETFROM:-0700
TZOFFSETTO:-0800
TZNAME:PST
DTSTART:20231105T090000
END:STANDARD
END:VTIMEZONE
BEGIN:VEVENT
DTSTART;TZID=America/Los_Angeles:20220901T160000
DTEND;TZID=America/Los_Angeles:20220901T170000
DTSTAMP:20260423T030115
CREATED:20220113T020027Z
LAST-MODIFIED:20220113T020027Z
UID:14831-1662048000-1662051600@svswa.org
SUMMARY:Executive Committee Meeting
DESCRIPTION:The Executive Committee is composed of the Authority Board President\, Vice President\, Alternate Vice President and Immediate Past President (discretional). The Executive Committee is an advisory committee to the Board of Directors and oversees issues related to finances\, personal\, and agency policies. \n Please note that Due to State\, County\, and local orders to contain the spread of COVID-19 all meetings will be held virtually via Zoom until further notice.  Members of the public interested in observing the meeting may do so on our YouTube channel https://www.youtube.com/user/svswa831.  To provide Public Comment please read the Notice on the Agenda.
URL:https://svswa.org/event/executive-committee-meeting-31/
END:VEVENT
BEGIN:VEVENT
DTSTART;TZID=America/Los_Angeles:20220818T180000
DTEND;TZID=America/Los_Angeles:20220818T200000
DTSTAMP:20260423T030115
CREATED:20220113T021330Z
LAST-MODIFIED:20220113T021330Z
UID:14849-1660845600-1660852800@svswa.org
SUMMARY:Board of Directors Meeting
DESCRIPTION:The Board of Directors consists of 9 Board Members with 6 alternate representatives. The Board meets every 3rd Thursday of the month at 6:00 p.m.\, unless otherwise noted\, in the City of Gonzales Council Chambers\, 117 Fourth Street\, Gonzales\, CA 93926. \n Please note that Due to State\, County\, and local orders to contain the spread of COVID-19 all meetings will be held virtually via Zoom until further notice.  Members of the public interested in observing the meeting may do so on our YouTube channel https://www.youtube.com/user/svswa831.  To provide Public Comment please read the Notice on the Agenda.  \n 
URL:https://svswa.org/event/board-of-directors-meeting-30/
END:VEVENT
BEGIN:VEVENT
DTSTART;TZID=America/Los_Angeles:20220804T160000
DTEND;TZID=America/Los_Angeles:20220804T170000
DTSTAMP:20260423T030115
CREATED:20220113T015936Z
LAST-MODIFIED:20220113T015936Z
UID:14829-1659628800-1659632400@svswa.org
SUMMARY:Executive Committee Meeting
DESCRIPTION:The Executive Committee is composed of the Authority Board President\, Vice President\, Alternate Vice President and Immediate Past President (discretional). The Executive Committee is an advisory committee to the Board of Directors and oversees issues related to finances\, personal\, and agency policies. \n Please note that Due to State\, County\, and local orders to contain the spread of COVID-19 all meetings will be held virtually via Zoom until further notice.  Members of the public interested in observing the meeting may do so on our YouTube channel https://www.youtube.com/user/svswa831.  To provide Public Comment please read the Notice on the Agenda.
URL:https://svswa.org/event/executive-committee-meeting-30/
END:VEVENT
BEGIN:VEVENT
DTSTART;TZID=America/Los_Angeles:20220616T180000
DTEND;TZID=America/Los_Angeles:20220616T200000
DTSTAMP:20260423T030115
CREATED:20220113T021243Z
LAST-MODIFIED:20220113T021243Z
UID:14847-1655402400-1655409600@svswa.org
SUMMARY:Board of Directors Meeting
DESCRIPTION:The Board of Directors consists of 9 Board Members with 6 alternate representatives. The Board meets every 3rd Thursday of the month at 6:00 p.m.\, unless otherwise noted\, in the City of Gonzales Council Chambers\, 117 Fourth Street\, Gonzales\, CA 93926. \n Please note that Due to State\, County\, and local orders to contain the spread of COVID-19 all meetings will be held virtually via Zoom until further notice.  Members of the public interested in observing the meeting may do so on our YouTube channel https://www.youtube.com/user/svswa831.  To provide Public Comment please read the Notice on the Agenda.  \n 
URL:https://svswa.org/event/board-of-directors-meeting-29/
END:VEVENT
BEGIN:VEVENT
DTSTART;TZID=America/Los_Angeles:20220602T160000
DTEND;TZID=America/Los_Angeles:20220602T170000
DTSTAMP:20260423T030115
CREATED:20220113T015843Z
LAST-MODIFIED:20220113T015843Z
UID:14827-1654185600-1654189200@svswa.org
SUMMARY:Executive Committee Meeting
DESCRIPTION:The Executive Committee is composed of the Authority Board President\, Vice President\, Alternate Vice President and Immediate Past President (discretional). The Executive Committee is an advisory committee to the Board of Directors and oversees issues related to finances\, personal\, and agency policies. \n Please note that Due to State\, County\, and local orders to contain the spread of COVID-19 all meetings will be held virtually via Zoom until further notice.  Members of the public interested in observing the meeting may do so on our YouTube channel https://www.youtube.com/user/svswa831.  To provide Public Comment please read the Notice on the Agenda.
URL:https://svswa.org/event/executive-committee-meeting-29/
END:VEVENT
BEGIN:VEVENT
DTSTART;TZID=America/Los_Angeles:20220519T180000
DTEND;TZID=America/Los_Angeles:20220519T200000
DTSTAMP:20260423T030115
CREATED:20220113T021202Z
LAST-MODIFIED:20220113T021202Z
UID:14845-1652983200-1652990400@svswa.org
SUMMARY:Board of Directors Meeting
DESCRIPTION:The Board of Directors consists of 9 Board Members with 6 alternate representatives. The Board meets every 3rd Thursday of the month at 6:00 p.m.\, unless otherwise noted\, in the City of Gonzales Council Chambers\, 117 Fourth Street\, Gonzales\, CA 93926. \n Please note that Due to State\, County\, and local orders to contain the spread of COVID-19 all meetings will be held virtually via Zoom until further notice.  Members of the public interested in observing the meeting may do so on our YouTube channel https://www.youtube.com/user/svswa831.  To provide Public Comment please read the Notice on the Agenda.  \n 
URL:https://svswa.org/event/board-of-directors-meeting-28/
END:VEVENT
BEGIN:VEVENT
DTSTART;TZID=America/Los_Angeles:20220505T160000
DTEND;TZID=America/Los_Angeles:20220505T170000
DTSTAMP:20260423T030115
CREATED:20220113T015800Z
LAST-MODIFIED:20220113T015800Z
UID:14825-1651766400-1651770000@svswa.org
SUMMARY:Executive Committee Meeting - MEETING CANCELED DUE TO LACK OF QUORUM
DESCRIPTION:MEETING CANCELED DUE TO LACK OF QUORUM  \n  \nThe Executive Committee is composed of the Authority Board President\, Vice President\, Alternate Vice President and Immediate Past President (discretional). The Executive Committee is an advisory committee to the Board of Directors and oversees issues related to finances\, personal\, and agency policies. \n Please note that Due to State\, County\, and local orders to contain the spread of COVID-19 all meetings will be held virtually via Zoom until further notice.  Members of the public interested in observing the meeting may do so on our YouTube channel https://www.youtube.com/user/svswa831.  To provide Public Comment please read the Notice on the Agenda.
URL:https://svswa.org/event/executive-committee-meeting-28/
END:VEVENT
BEGIN:VEVENT
DTSTART;TZID=America/Los_Angeles:20220421T180000
DTEND;TZID=America/Los_Angeles:20220421T200000
DTSTAMP:20260423T030115
CREATED:20220113T021109Z
LAST-MODIFIED:20220113T021109Z
UID:14843-1650564000-1650571200@svswa.org
SUMMARY:Board of Directors Meeting - CANCELED
DESCRIPTION:This meeting has been canceled. \n  \nThe Board of Directors consists of 9 Board Members with 6 alternate representatives. The Board meets every 3rd Thursday of the month at 6:00 p.m.\, unless otherwise noted\, in the City of Gonzales Council Chambers\, 117 Fourth Street\, Gonzales\, CA 93926. \n Please note that Due to State\, County\, and local orders to contain the spread of COVID-19 all meetings will be held virtually via Zoom until further notice.  Members of the public interested in observing the meeting may do so on our YouTube channel https://www.youtube.com/user/svswa831.  To provide Public Comment please read the Notice on the Agenda.  \n 
URL:https://svswa.org/event/board-of-directors-meeting-27/
END:VEVENT
BEGIN:VEVENT
DTSTART;TZID=America/Los_Angeles:20220407T160000
DTEND;TZID=America/Los_Angeles:20220407T170000
DTSTAMP:20260423T030115
CREATED:20220113T015210Z
LAST-MODIFIED:20220113T015210Z
UID:14823-1649347200-1649350800@svswa.org
SUMMARY:Executive Committee Meeting
DESCRIPTION:The Executive Committee is composed of the Authority Board President\, Vice President\, Alternate Vice President and Immediate Past President (discretional). The Executive Committee is an advisory committee to the Board of Directors and oversees issues related to finances\, personal\, and agency policies. \n Please note that Due to State\, County\, and local orders to contain the spread of COVID-19 all meetings will be held virtually via Zoom until further notice.  Members of the public interested in observing the meeting may do so on our YouTube channel https://www.youtube.com/user/svswa831.  To provide Public Comment please read the Notice on the Agenda.
URL:https://svswa.org/event/executive-committee-meeting-27/
END:VEVENT
BEGIN:VEVENT
DTSTART;TZID=America/Los_Angeles:20220326T100000
DTEND;TZID=America/Los_Angeles:20220326T230000
DTSTAMP:20260423T030115
CREATED:20220118T201443Z
LAST-MODIFIED:20220118T201443Z
UID:15002-1648288800-1648335600@svswa.org
SUMMARY:Kid's Craft - Recycled - Soda Bottle Flowers
DESCRIPTION:
URL:https://svswa.org/event/kids-craft-recycled-soda-bottle-flowers/
END:VEVENT
BEGIN:VEVENT
DTSTART;TZID=America/Los_Angeles:20220326T100000
DTEND;TZID=America/Los_Angeles:20220326T110000
DTSTAMP:20260423T030115
CREATED:20211229T155127Z
LAST-MODIFIED:20211229T155127Z
UID:14178-1648288800-1648292400@svswa.org
SUMMARY:Composting Workshop! Take home a FREE Compost Bin!
DESCRIPTION:FREE In-Person Composting Workshop!Come and learn about: Worm composting\, backyard composting\, and convert your kitchen scrap into a rich nutrient soil.Register today or in-person at the event!Kids and families Welcome! Kid friendly activities available!Each Household will can bring home a FREE Compost Bin!
URL:https://svswa.org/event/14178/
CATEGORIES:Free Compost Workshops
ATTACH;FMTTYPE=:
END:VEVENT
BEGIN:VEVENT
DTSTART;TZID=America/Los_Angeles:20220324T080000
DTEND;TZID=America/Los_Angeles:20220324T170000
DTSTAMP:20260423T030115
CREATED:20220324T161141Z
LAST-MODIFIED:20220324T161141Z
UID:16936-1648108800-1648141200@svswa.org
SUMMARY:Expanded Services Madison Lane Transfer Station
DESCRIPTION:Community Meeting: Expanded Service:  Madison Lane Transfer Station \nThurs. March 31\, 2022 \n6:00 – 7:30PM \nBoronda Meadows School \n915 Larkin St\, Salinas \nFor Meeting Information \n831.775.3000 \n  \nThe Sun Street Transfer Station is closing and moving its Household Hazardous Waste and Recycling services to Madison Lane Transfer Station beginning in the summer of 2022. Please join us for a community meeting to learn more about what this means for you and our community. \nThis community meeting will highlight the expanded services and facility improvements that will be taking place at the Madison Lane Transfer Station. \n 
URL:https://svswa.org/event/expanded-services-madison-lane-transfer-station/
END:VEVENT
BEGIN:VEVENT
DTSTART;TZID=America/Los_Angeles:20220317T180000
DTEND;TZID=America/Los_Angeles:20220317T200000
DTSTAMP:20260423T030115
CREATED:20220113T021017Z
LAST-MODIFIED:20220113T021017Z
UID:14841-1647540000-1647547200@svswa.org
SUMMARY:Board of Directors Meeting
DESCRIPTION:The Board of Directors consists of 9 Board Members with 6 alternate representatives. The Board meets every 3rd Thursday of the month at 6:00 p.m.\, unless otherwise noted\, in the City of Gonzales Council Chambers\, 117 Fourth Street\, Gonzales\, CA 93926. \n Please note that Due to State\, County\, and local orders to contain the spread of COVID-19 all meetings will be held virtually via Zoom until further notice.  Members of the public interested in observing the meeting may do so on our YouTube channel https://www.youtube.com/user/svswa831.  To provide Public Comment please read the Notice on the Agenda.  \n 
URL:https://svswa.org/event/board-of-directors-meeting-26/
END:VEVENT
BEGIN:VEVENT
DTSTART;TZID=America/Los_Angeles:20220310T130000
DTEND;TZID=America/Los_Angeles:20220310T170000
DTSTAMP:20260423T030115
CREATED:20220113T195453Z
LAST-MODIFIED:20220113T195453Z
UID:14899-1646917200-1646931600@svswa.org
SUMMARY:SVR Board of Directors Strategic Planning Session
DESCRIPTION:
URL:https://svswa.org/event/svr-board-of-directors-strategic-planning-session/
END:VEVENT
BEGIN:VEVENT
DTSTART;TZID=America/Los_Angeles:20220303T160000
DTEND;TZID=America/Los_Angeles:20220303T170000
DTSTAMP:20260423T030115
CREATED:20220113T015121Z
LAST-MODIFIED:20220113T015121Z
UID:14821-1646323200-1646326800@svswa.org
SUMMARY:Executive Committee Meeting
DESCRIPTION:The Executive Committee is composed of the Authority Board President\, Vice President\, Alternate Vice President and Immediate Past President (discretional). The Executive Committee is an advisory committee to the Board of Directors and oversees issues related to finances\, personal\, and agency policies. \n Please note that Due to State\, County\, and local orders to contain the spread of COVID-19 all meetings will be held virtually via Zoom until further notice.  Members of the public interested in observing the meeting may do so on our YouTube channel https://www.youtube.com/user/svswa831.  To provide Public Comment please read the Notice on the Agenda.
URL:https://svswa.org/event/executive-committee-meeting-26/
END:VEVENT
BEGIN:VEVENT
DTSTART;TZID=America/Los_Angeles:20220226T100000
DTEND;TZID=America/Los_Angeles:20220226T110000
DTSTAMP:20260423T030115
CREATED:20220118T201342Z
LAST-MODIFIED:20220118T201342Z
UID:15000-1645869600-1645873200@svswa.org
SUMMARY:Kid's Craft: Recycled - Bottle Cap Murals
DESCRIPTION:
URL:https://svswa.org/event/kids-craft-recycled-bottle-cap-murals/
END:VEVENT
BEGIN:VEVENT
DTSTART;TZID=America/Los_Angeles:20220226T100000
DTEND;TZID=America/Los_Angeles:20220226T110000
DTSTAMP:20260423T030115
CREATED:20211229T154900Z
LAST-MODIFIED:20211229T154900Z
UID:14174-1645869600-1645873200@svswa.org
SUMMARY:Composting Workshop! Take home a FREE Compost Bin!
DESCRIPTION:FREE In-Person Composting Workshop!\nCome and learn about: Worm composting\, backyard composting\, and convert your kitchen scrap into a rich nutrient soil.\nRegister today or in-person at the event! \nKids and families Welcome!  \nKid friendly activities available!\nEach Household will can bring home a FREE Compost Bin! \n 
URL:https://svswa.org/event/composting-workshop-take-home-a-free-compost-bin-2/
CATEGORIES:Free Compost Workshops
ATTACH;FMTTYPE=:
END:VEVENT
BEGIN:VEVENT
DTSTART;TZID=America/Los_Angeles:20220217T180000
DTEND;TZID=America/Los_Angeles:20220217T200000
DTSTAMP:20260423T030115
CREATED:20220113T015026Z
LAST-MODIFIED:20220113T015026Z
UID:14819-1645120800-1645128000@svswa.org
SUMMARY:Board of Directors Meeting
DESCRIPTION:The Board of Directors consists of 9 Board Members with 6 alternate representatives. The Board meets every 3rd Thursday of the month at 6:00 p.m.\, unless otherwise noted\, in the City of Gonzales Council Chambers\, 117 Fourth Street\, Gonzales\, CA 93926. \n Please note that Due to State\, County\, and local orders to contain the spread of COVID-19 all meetings will be held virtually via Zoom until further notice.  Members of the public interested in observing the meeting may do so on our YouTube channel https://www.youtube.com/user/svswa831.  To provide Public Comment please read the Notice on the Agenda.  \n  \n 
URL:https://svswa.org/event/board-of-directors-meeting-24/
END:VEVENT
BEGIN:VEVENT
DTSTART;TZID=America/Los_Angeles:20220203T160000
DTEND;TZID=America/Los_Angeles:20220203T170000
DTSTAMP:20260423T030115
CREATED:20220113T013432Z
LAST-MODIFIED:20220113T013432Z
UID:14817-1643904000-1643907600@svswa.org
SUMMARY:Executive Committee Meeting
DESCRIPTION:The Executive Committee is composed of the Authority Board President\, Vice President\, Alternate Vice President and Immediate Past President (discretional). The Executive Committee is an advisory committee to the Board of Directors and oversees issues related to finances\, personal\, and agency policies. \n Please note that Due to State\, County\, and local orders to contain the spread of COVID-19 all meetings will be held virtually via Zoom until further notice.  Members of the public interested in observing the meeting may do so on our YouTube channel https://www.youtube.com/user/svswa831.  To provide Public Comment please read the Notice on the Agenda. \n 
URL:https://svswa.org/event/executive-committee-meeting-25/
END:VEVENT
BEGIN:VEVENT
DTSTART;TZID=America/Los_Angeles:20220129T100000
DTEND;TZID=America/Los_Angeles:20220129T110000
DTSTAMP:20260423T030115
CREATED:20220118T201133Z
LAST-MODIFIED:20220118T201133Z
UID:14994-1643450400-1643454000@svswa.org
SUMMARY:Kid's Crafts: Recycled
DESCRIPTION:
URL:https://svswa.org/event/kids-crafts-recycled/
END:VEVENT
BEGIN:VEVENT
DTSTART;TZID=America/Los_Angeles:20220129T100000
DTEND;TZID=America/Los_Angeles:20220129T110000
DTSTAMP:20260423T030115
CREATED:20211229T153743Z
LAST-MODIFIED:20211229T153743Z
UID:14172-1643450400-1643454000@svswa.org
SUMMARY:Composting Workshop! Take home a FREE Compost Bin!
DESCRIPTION:FREE In-Person Composting Workshop!\nCome and learn about: Worm composting\, backyard composting\, and convert your kitchen scrap into a rich nutrient soil.\nRegister today or on day of the event! \nKids and families Welcome!  \nKid friendly activities available!\nEach Household will can bring home a FREE Compost Bin! \n 
URL:https://svswa.org/event/composting-workshop-take-home-a-free-compost-bin/
CATEGORIES:Free Compost Workshops
ATTACH;FMTTYPE=:
END:VEVENT
BEGIN:VEVENT
DTSTART;TZID=America/Los_Angeles:20220120T180000
DTEND;TZID=America/Los_Angeles:20220120T200000
DTSTAMP:20260423T030115
CREATED:20220113T013326Z
LAST-MODIFIED:20220113T013326Z
UID:14815-1642701600-1642708800@svswa.org
SUMMARY:Board of Directors Meeting
DESCRIPTION:The Board of Directors consists of 9 Board Members with 6 alternate representatives. The Board meets every 3rd Thursday of the month at 6:00 p.m.\, unless otherwise noted\, in the City of Gonzales Council Chambers\, 117 Fourth Street\, Gonzales\, CA 93926. \n Please note that Due to State\, County\, and local orders to contain the spread of COVID-19 all meetings will be held virtually via Zoom until further notice.  Members of the public interested in observing the meeting may do so on our YouTube channel https://www.youtube.com/user/svswa831.  To provide Public Comment please read the Notice on the Agenda.  \n  \n 
URL:https://svswa.org/event/board-of-directors-meeting-23/
END:VEVENT
BEGIN:VEVENT
DTSTART;TZID=America/Los_Angeles:20220106T160000
DTEND;TZID=America/Los_Angeles:20220106T170000
DTSTAMP:20260423T030115
CREATED:20220113T013140Z
LAST-MODIFIED:20220113T013140Z
UID:14813-1641484800-1641488400@svswa.org
SUMMARY:Executive Committee Meeting
DESCRIPTION:The Executive Committee is composed of the Authority Board President\, Vice President\, Alternate Vice President and Immediate Past President (discretional). The Executive Committee is an advisory committee to the Board of Directors and oversees issues related to finances\, personal\, and agency policies. \n Please note that Due to State\, County\, and local orders to contain the spread of COVID-19 all meetings will be held virtually via Zoom until further notice.  Members of the public interested in observing the meeting may do so on our YouTube channel https://www.youtube.com/user/svswa831.  To provide Public Comment please read the Notice on the Agenda.
URL:https://svswa.org/event/executive-committee-meeting-24/
END:VEVENT
BEGIN:VEVENT
DTSTART;TZID=America/Los_Angeles:20211216T180000
DTEND;TZID=America/Los_Angeles:20211216T200000
DTSTAMP:20260423T030115
CREATED:20201211T182119Z
LAST-MODIFIED:20201211T182119Z
UID:11873-1639677600-1639684800@svswa.org
SUMMARY:Board Of Directors Meeting
DESCRIPTION:The Board of Directors consists of 9 Board Members with 6 alternate representatives. The Board meets every 3rd Thursday of the month at 6:00 p.m.\, unless otherwise noted\, in the City of Gonzales Council Chambers\, 117 Fourth Street\, Gonzales\, CA 93926.
URL:https://svswa.org/event/board-of-directors-meeting-22/
END:VEVENT
BEGIN:VEVENT
DTSTART;TZID=America/Los_Angeles:20211202T160000
DTEND;TZID=America/Los_Angeles:20211202T180000
DTSTAMP:20260423T030115
CREATED:20201211T180125Z
LAST-MODIFIED:20201211T180125Z
UID:11850-1638460800-1638468000@svswa.org
SUMMARY:Executive Committee Meeting
DESCRIPTION:The monthly meeting of the Salinas Valley Solid Waste Authority Executive Committee. The Executive Committee is composed of the Authority Board President\, Vice President\, Alternate Vice President and Immediate Past President (discretional). The Executive Committee is an advisory committee to the Board of Directors and oversees issues related to finances\, personal\, and agency policies.
URL:https://svswa.org/event/executive-committee-meeting-23/
END:VEVENT
BEGIN:VEVENT
DTSTART;TZID=America/Los_Angeles:20211118T180000
DTEND;TZID=America/Los_Angeles:20211118T200000
DTSTAMP:20260423T030115
CREATED:20201211T182043Z
LAST-MODIFIED:20201211T182043Z
UID:11871-1637258400-1637265600@svswa.org
SUMMARY:Board Of Directors Meeting
DESCRIPTION:The Board of Directors consists of 9 Board Members with 6 alternate representatives. The Board meets every 3rd Thursday of the month at 6:00 p.m.\, unless otherwise noted\, in the City of Gonzales Council Chambers\, 117 Fourth Street\, Gonzales\, CA 93926.
URL:https://svswa.org/event/board-of-directors-meeting-21/
END:VEVENT
BEGIN:VEVENT
DTSTART;TZID=America/Los_Angeles:20211104T160000
DTEND;TZID=America/Los_Angeles:20211104T180000
DTSTAMP:20260423T030115
CREATED:20201211T180039Z
LAST-MODIFIED:20201211T180039Z
UID:11848-1636041600-1636048800@svswa.org
SUMMARY:Executive Committee Meeting
DESCRIPTION:The monthly meeting of the Salinas Valley Solid Waste Authority Executive Committee. The Executive Committee is composed of the Authority Board President\, Vice President\, Alternate Vice President and Immediate Past President (discretional). The Executive Committee is an advisory committee to the Board of Directors and oversees issues related to finances\, personal\, and agency policies.
URL:https://svswa.org/event/executive-committee-meeting-22/
END:VEVENT
BEGIN:VEVENT
DTSTART;TZID=America/Los_Angeles:20211028T150000
DTEND;TZID=America/Los_Angeles:20211028T170000
DTSTAMP:20260423T030115
CREATED:20201217T003426Z
LAST-MODIFIED:20201217T003426Z
UID:11996-1635433200-1635440400@svswa.org
SUMMARY:Advisory Committee Meeting
DESCRIPTION:The Advisory Committee (AC) reviews activities\, programs and long-range planning efforts proposed by SVR to meet State regulations and provided feedback to the Board of Directors and staff. \n The AC Regular Meetings are held\, unless otherwise noted\, the fourth Thursday of every other month from 3:00 p.m. to 5:00 p.m. and take place at the Administration Office located at 128 Sun Street\, Suite 101\, in Salinas\, CA. \n Please note that Due to State\, County\, and local orders to contain the spread of COVID-19 all meetings will be held virtually via Zoom until further notice.  Members of the public interested in observing the meeting may do so on our YouTube channel https://www.youtube.com/user/svswa831.  To provide Public Comment please read the Notice on the Agenda.
URL:https://svswa.org/event/advisory-committee-meeting-5/
END:VEVENT
BEGIN:VEVENT
DTSTART;TZID=America/Los_Angeles:20211021T180000
DTEND;TZID=America/Los_Angeles:20211021T200000
DTSTAMP:20260423T030115
CREATED:20201211T181944Z
LAST-MODIFIED:20201211T181944Z
UID:11869-1634839200-1634846400@svswa.org
SUMMARY:Board Of Directors Meeting
DESCRIPTION:The Board of Directors consists of 9 Board Members with 6 alternate representatives. The Board meets every 3rd Thursday of the month at 6:00 p.m.\, unless otherwise noted\, in the City of Gonzales Council Chambers\, 117 Fourth Street\, Gonzales\, CA 93926.
URL:https://svswa.org/event/board-of-directors-meeting-20/
END:VEVENT
BEGIN:VEVENT
DTSTART;TZID=America/Los_Angeles:20211007T160000
DTEND;TZID=America/Los_Angeles:20211007T180000
DTSTAMP:20260423T030115
CREATED:20201211T175747Z
LAST-MODIFIED:20201211T175747Z
UID:11846-1633622400-1633629600@svswa.org
SUMMARY:Executive Committee Meeting
DESCRIPTION:The monthly meeting of the Salinas Valley Solid Waste Authority Executive Committee. The Executive Committee is composed of the Authority Board President\, Vice President\, Alternate Vice President and Immediate Past President (discretional). The Executive Committee is an advisory committee to the Board of Directors and oversees issues related to finances\, personal\, and agency policies.
URL:https://svswa.org/event/executive-committee-meeting-21/
END:VEVENT
END:VCALENDAR