BEGIN:VCALENDAR
VERSION:2.0
PRODID:-//Salinas Valley Solid Waste Authority - ECPv6.15.13//NONSGML v1.0//EN
CALSCALE:GREGORIAN
METHOD:PUBLISH
X-ORIGINAL-URL:https://svswa.org
X-WR-CALDESC:Events for Salinas Valley Solid Waste Authority
REFRESH-INTERVAL;VALUE=DURATION:PT1H
X-Robots-Tag:noindex
X-PUBLISHED-TTL:PT1H
BEGIN:VTIMEZONE
TZID:America/Los_Angeles
BEGIN:DAYLIGHT
TZOFFSETFROM:-0800
TZOFFSETTO:-0700
TZNAME:PDT
DTSTART:20250309T100000
END:DAYLIGHT
BEGIN:STANDARD
TZOFFSETFROM:-0700
TZOFFSETTO:-0800
TZNAME:PST
DTSTART:20251102T090000
END:STANDARD
BEGIN:DAYLIGHT
TZOFFSETFROM:-0800
TZOFFSETTO:-0700
TZNAME:PDT
DTSTART:20260308T100000
END:DAYLIGHT
BEGIN:STANDARD
TZOFFSETFROM:-0700
TZOFFSETTO:-0800
TZNAME:PST
DTSTART:20261101T090000
END:STANDARD
BEGIN:DAYLIGHT
TZOFFSETFROM:-0800
TZOFFSETTO:-0700
TZNAME:PDT
DTSTART:20270314T100000
END:DAYLIGHT
BEGIN:STANDARD
TZOFFSETFROM:-0700
TZOFFSETTO:-0800
TZNAME:PST
DTSTART:20271107T090000
END:STANDARD
END:VTIMEZONE
BEGIN:VEVENT
DTSTART;TZID=America/Los_Angeles:20260319T180000
DTEND;TZID=America/Los_Angeles:20260319T200000
DTSTAMP:20260422T153303
CREATED:20251118T195048Z
LAST-MODIFIED:20251118T195945Z
UID:38544-1773943200-1773950400@svswa.org
SUMMARY:Board of Directors Meeting
DESCRIPTION:The Board of Directors consists of 9 Board Members with 6 alternate representatives. The Board meets every 3rd Thursday of the month at 6:00 p.m.\, unless otherwise noted\, in the City of Gonzales Council Chambers\, 117 Fourth Street\, Gonzales\, CA 93926.
URL:https://svswa.org/event/board-of-directors-meeting-66/
LOCATION:CA
END:VEVENT
BEGIN:VEVENT
DTSTART;TZID=America/Los_Angeles:20260401T143000
DTEND;TZID=America/Los_Angeles:20260401T153000
DTSTAMP:20260422T153303
CREATED:20251118T194207Z
LAST-MODIFIED:20251118T194207Z
UID:38523-1775053800-1775057400@svswa.org
SUMMARY:Executive Committee Meeting
DESCRIPTION:The Executive Committee is composed of the Authority Board President\, Vice President\, Alternate Vice President and Immediate Past President (discretional). The Executive Committee is an advisory committee to the Board of Directors and oversees issues related to finance\, personnel\, and agency policies.
URL:https://svswa.org/event/executive-committee-meeting-66/
LOCATION:CA
END:VEVENT
BEGIN:VEVENT
DTSTART;TZID=America/Los_Angeles:20260416T180000
DTEND;TZID=America/Los_Angeles:20260416T200000
DTSTAMP:20260422T153303
CREATED:20251118T195125Z
LAST-MODIFIED:20251118T195125Z
UID:38546-1776362400-1776369600@svswa.org
SUMMARY:Board of Directors Meeting
DESCRIPTION:The Board of Directors consists of 9 Board Members with 6 alternate representatives. The Board meets every 3rd Thursday of the month at 6:00 p.m.\, unless otherwise noted\, in the City of Gonzales Council Chambers\, 117 Fourth Street\, Gonzales\, CA 93926.
URL:https://svswa.org/event/board-of-directors-meeting-67/
LOCATION:CA
END:VEVENT
BEGIN:VEVENT
DTSTART;TZID=America/Los_Angeles:20260506T143000
DTEND;TZID=America/Los_Angeles:20260506T153000
DTSTAMP:20260422T153303
CREATED:20251118T194245Z
LAST-MODIFIED:20251118T194245Z
UID:38525-1778077800-1778081400@svswa.org
SUMMARY:Executive Committee Meeting
DESCRIPTION:The Executive Committee is composed of the Authority Board President\, Vice President\, Alternate Vice President and Immediate Past President (discretional). The Executive Committee is an advisory committee to the Board of Directors and oversees issues related to finance\, personnel\, and agency policies.
URL:https://svswa.org/event/executive-committee-meeting-67/
LOCATION:CA
END:VEVENT
BEGIN:VEVENT
DTSTART;TZID=America/Los_Angeles:20260521T180000
DTEND;TZID=America/Los_Angeles:20260521T200000
DTSTAMP:20260422T153303
CREATED:20251118T195745Z
LAST-MODIFIED:20251118T195745Z
UID:38561-1779386400-1779393600@svswa.org
SUMMARY:Board of Directors Meeting
DESCRIPTION:The Board of Directors consists of 9 Board Members with 6 alternate representatives. The Board meets every 3rd Thursday of the month at 6:00 p.m.\, unless otherwise noted\, in the City of Gonzales Council Chambers\, 117 Fourth Street\, Gonzales\, CA 93926.
URL:https://svswa.org/event/board-of-directors-meeting-73/
LOCATION:CA
END:VEVENT
BEGIN:VEVENT
DTSTART;TZID=America/Los_Angeles:20260603T143000
DTEND;TZID=America/Los_Angeles:20260603T153000
DTSTAMP:20260422T153303
CREATED:20251118T194325Z
LAST-MODIFIED:20251118T194325Z
UID:38527-1780497000-1780500600@svswa.org
SUMMARY:Executive Committee Meeting
DESCRIPTION:The Executive Committee is composed of the Authority Board President\, Vice President\, Alternate Vice President and Immediate Past President (discretional). The Executive Committee is an advisory committee to the Board of Directors and oversees issues related to finance\, personnel\, and agency policies.
URL:https://svswa.org/event/executive-committee-meeting-68/
LOCATION:CA
END:VEVENT
BEGIN:VEVENT
DTSTART;TZID=America/Los_Angeles:20260618T180000
DTEND;TZID=America/Los_Angeles:20260618T200000
DTSTAMP:20260422T153303
CREATED:20251118T195200Z
LAST-MODIFIED:20251118T195200Z
UID:38548-1781805600-1781812800@svswa.org
SUMMARY:Board of Directors Meeting
DESCRIPTION:The Board of Directors consists of 9 Board Members with 6 alternate representatives. The Board meets every 3rd Thursday of the month at 6:00 p.m.\, unless otherwise noted\, in the City of Gonzales Council Chambers\, 117 Fourth Street\, Gonzales\, CA 93926.
URL:https://svswa.org/event/board-of-directors-meeting-68/
LOCATION:CA
END:VEVENT
BEGIN:VEVENT
DTSTART;TZID=America/Los_Angeles:20260805T143000
DTEND;TZID=America/Los_Angeles:20260805T153000
DTSTAMP:20260422T153303
CREATED:20251118T194441Z
LAST-MODIFIED:20251118T194441Z
UID:38529-1785940200-1785943800@svswa.org
SUMMARY:Executive Committee Meeting
DESCRIPTION:The Executive Committee is composed of the Authority Board President\, Vice President\, Alternate Vice President and Immediate Past President (discretional). The Executive Committee is an advisory committee to the Board of Directors and oversees issues related to finance\, personnel\, and agency policies.
URL:https://svswa.org/event/executive-committee-meeting-69/
LOCATION:CA
END:VEVENT
BEGIN:VEVENT
DTSTART;TZID=America/Los_Angeles:20260820T180000
DTEND;TZID=America/Los_Angeles:20260820T200000
DTSTAMP:20260422T153303
CREATED:20251118T195244Z
LAST-MODIFIED:20251118T195244Z
UID:38550-1787248800-1787256000@svswa.org
SUMMARY:Board of Directors Meeting
DESCRIPTION:The Board of Directors consists of 9 Board Members with 6 alternate representatives. The Board meets every 3rd Thursday of the month at 6:00 p.m.\, unless otherwise noted\, in the City of Gonzales Council Chambers\, 117 Fourth Street\, Gonzales\, CA 93926.
URL:https://svswa.org/event/board-of-directors-meeting-69/
LOCATION:CA
END:VEVENT
BEGIN:VEVENT
DTSTART;TZID=America/Los_Angeles:20260902T143000
DTEND;TZID=America/Los_Angeles:20260902T153000
DTSTAMP:20260422T153303
CREATED:20251118T194541Z
LAST-MODIFIED:20251118T194541Z
UID:38532-1788359400-1788363000@svswa.org
SUMMARY:Executive Committee Meeting
DESCRIPTION:The Executive Committee is composed of the Authority Board President\, Vice President\, Alternate Vice President and Immediate Past President (discretional). The Executive Committee is an advisory committee to the Board of Directors and oversees issues related to finance\, personnel\, and agency policies.
URL:https://svswa.org/event/executive-committee-meeting-70/
LOCATION:CA
END:VEVENT
BEGIN:VEVENT
DTSTART;TZID=America/Los_Angeles:20260917T180000
DTEND;TZID=America/Los_Angeles:20260917T200000
DTSTAMP:20260422T153303
CREATED:20251118T195326Z
LAST-MODIFIED:20251118T195326Z
UID:38552-1789668000-1789675200@svswa.org
SUMMARY:Board of Directors Meeting
DESCRIPTION:The Board of Directors consists of 9 Board Members with 6 alternate representatives. The Board meets every 3rd Thursday of the month at 6:00 p.m.\, unless otherwise noted\, in the City of Gonzales Council Chambers\, 117 Fourth Street\, Gonzales\, CA 93926.
URL:https://svswa.org/event/board-of-directors-meeting-70/
LOCATION:CA
END:VEVENT
BEGIN:VEVENT
DTSTART;TZID=America/Los_Angeles:20260930T143000
DTEND;TZID=America/Los_Angeles:20260930T153000
DTSTAMP:20260422T153303
CREATED:20251118T194626Z
LAST-MODIFIED:20251118T194626Z
UID:38534-1790778600-1790782200@svswa.org
SUMMARY:Executive Committee Meeting
DESCRIPTION:The Executive Committee is composed of the Authority Board President\, Vice President\, Alternate Vice President and Immediate Past President (discretional). The Executive Committee is an advisory committee to the Board of Directors and oversees issues related to finance\, personnel\, and agency policies.
URL:https://svswa.org/event/executive-committee-meeting-71/
LOCATION:CA
END:VEVENT
BEGIN:VEVENT
DTSTART;TZID=America/Los_Angeles:20261015T180000
DTEND;TZID=America/Los_Angeles:20261015T200000
DTSTAMP:20260422T153303
CREATED:20251118T195405Z
LAST-MODIFIED:20251118T195405Z
UID:38554-1792087200-1792094400@svswa.org
SUMMARY:Board of Directors Meeting
DESCRIPTION:The Board of Directors consists of 9 Board Members with 6 alternate representatives. The Board meets every 3rd Thursday of the month at 6:00 p.m.\, unless otherwise noted\, in the City of Gonzales Council Chambers\, 117 Fourth Street\, Gonzales\, CA 93926.
URL:https://svswa.org/event/board-of-directors-meeting-71/
LOCATION:CA
END:VEVENT
BEGIN:VEVENT
DTSTART;TZID=America/Los_Angeles:20261104T143000
DTEND;TZID=America/Los_Angeles:20261104T153000
DTSTAMP:20260422T153303
CREATED:20251118T194704Z
LAST-MODIFIED:20251118T194704Z
UID:38536-1793802600-1793806200@svswa.org
SUMMARY:Executive Committee Meeting
DESCRIPTION:The Executive Committee is composed of the Authority Board President\, Vice President\, Alternate Vice President and Immediate Past President (discretional). The Executive Committee is an advisory committee to the Board of Directors and oversees issues related to finance\, personnel\, and agency policies.
URL:https://svswa.org/event/executive-committee-meeting-72/
LOCATION:CA
END:VEVENT
BEGIN:VEVENT
DTSTART;TZID=America/Los_Angeles:20261119T180000
DTEND;TZID=America/Los_Angeles:20261119T200000
DTSTAMP:20260422T153303
CREATED:20251118T195448Z
LAST-MODIFIED:20251118T195448Z
UID:38556-1795111200-1795118400@svswa.org
SUMMARY:Board of Directors Meeting
DESCRIPTION:The Board of Directors consists of 9 Board Members with 6 alternate representatives. The Board meets every 3rd Thursday of the month at 6:00 p.m.\, unless otherwise noted\, in the City of Gonzales Council Chambers\, 117 Fourth Street\, Gonzales\, CA 93926.
URL:https://svswa.org/event/board-of-directors-meeting-72/
LOCATION:CA
END:VEVENT
BEGIN:VEVENT
DTSTART;TZID=America/Los_Angeles:20261202T143000
DTEND;TZID=America/Los_Angeles:20261202T153000
DTSTAMP:20260422T153303
CREATED:20251118T194741Z
LAST-MODIFIED:20251118T195603Z
UID:38538-1796221800-1796225400@svswa.org
SUMMARY:Executive Committee Meeting - Tentative
DESCRIPTION:The Executive Committee is composed of the Authority Board President\, Vice President\, Alternate Vice President and Immediate Past President (discretional). The Executive Committee is an advisory committee to the Board of Directors and oversees issues related to finance\, personnel\, and agency policies.
URL:https://svswa.org/event/executive-committee-meeting-73/
LOCATION:CA
END:VEVENT
BEGIN:VEVENT
DTSTART;TZID=America/Los_Angeles:20261217T180000
DTEND;TZID=America/Los_Angeles:20261217T200000
DTSTAMP:20260422T153303
CREATED:20251118T195548Z
LAST-MODIFIED:20251118T195548Z
UID:38558-1797530400-1797537600@svswa.org
SUMMARY:Board of Directors Meeting - Tentative
DESCRIPTION:The Board of Directors consists of 9 Board Members with 6 alternate representatives. The Board meets every 3rd Thursday of the month at 6:00 p.m.\, unless otherwise noted\, in the City of Gonzales Council Chambers\, 117 Fourth Street\, Gonzales\, CA 93926.
URL:https://svswa.org/event/board-of-directors-meeting-tentative-4/
LOCATION:CA
END:VEVENT
END:VCALENDAR