BEGIN:VCALENDAR
VERSION:2.0
PRODID:-//Salinas Valley Solid Waste Authority - ECPv6.15.13//NONSGML v1.0//EN
CALSCALE:GREGORIAN
METHOD:PUBLISH
X-ORIGINAL-URL:https://svswa.org
X-WR-CALDESC:Events for Salinas Valley Solid Waste Authority
REFRESH-INTERVAL;VALUE=DURATION:PT1H
X-Robots-Tag:noindex
X-PUBLISHED-TTL:PT1H
BEGIN:VTIMEZONE
TZID:America/Los_Angeles
BEGIN:DAYLIGHT
TZOFFSETFROM:-0800
TZOFFSETTO:-0700
TZNAME:PDT
DTSTART:20250309T100000
END:DAYLIGHT
BEGIN:STANDARD
TZOFFSETFROM:-0700
TZOFFSETTO:-0800
TZNAME:PST
DTSTART:20251102T090000
END:STANDARD
BEGIN:DAYLIGHT
TZOFFSETFROM:-0800
TZOFFSETTO:-0700
TZNAME:PDT
DTSTART:20260308T100000
END:DAYLIGHT
BEGIN:STANDARD
TZOFFSETFROM:-0700
TZOFFSETTO:-0800
TZNAME:PST
DTSTART:20261101T090000
END:STANDARD
BEGIN:DAYLIGHT
TZOFFSETFROM:-0800
TZOFFSETTO:-0700
TZNAME:PDT
DTSTART:20270314T100000
END:DAYLIGHT
BEGIN:STANDARD
TZOFFSETFROM:-0700
TZOFFSETTO:-0800
TZNAME:PST
DTSTART:20271107T090000
END:STANDARD
END:VTIMEZONE
BEGIN:VEVENT
DTSTART;TZID=America/Los_Angeles:20260228T100000
DTEND;TZID=America/Los_Angeles:20260228T170000
DTSTAMP:20260422T075725
CREATED:20260209T232926Z
LAST-MODIFIED:20260209T234446Z
UID:39094-1772272800-1772298000@svswa.org
SUMMARY:Compost Workshop & Compost Giveaway
DESCRIPTION:Come and learn about: Worm composting\, backyard composting\, and converting your kitchen scraps into a nutrient-rich soil amendment! \nRegister today\, families are welcomed! Check out the upcoming Basic Composting and Vermicomposting Events. \n  \n  
URL:https://svswa.org/event/compost-workshop-compost-giveaway/
LOCATION:Natividad Creek Park\, 1395 Nogal Drive\, Salinas\, CA\, 93905\, United States
ATTACH;FMTTYPE=image/jpeg:https://svswa.org/wp-content/uploads/2019/04/Worms-300x200-1.jpg
END:VEVENT
END:VCALENDAR